Workbook
Name Iss_Name: '05_設定'!$C$5
Name Iss_Zip: '05_設定'!$C$6
Name Iss_Addr1: '05_設定'!$C$7
Name Iss_Addr2: '05_設定'!$C$8
Name Iss_Tel: '05_設定'!$C$9
Name Iss_Mail: '05_設定'!$C$10
Name Iss_Staff: '05_設定'!$C$11
Name Iss_RegNo: '05_設定'!$C$12
Name TaxRate: '05_設定'!$C$15
Name RoundTax: '05_設定'!$C$16
Name RoundLine: '05_設定'!$C$17
Name ValidDays: '05_設定'!$C$18
Name DefaultPay: '05_設定'!$C$19
Name SampleMark: '05_設定'!$C$20
Name DocTitle: '05_設定'!$C$21
Name dv_Pay: '05_設定'!$F$5:INDEX('05_設定'!$F$5:$F$14,MAX(1,COUNTIF('05_設定'!$F$5:$F$14,"?*")))
Name dv_Unit: '05_設定'!$H$5:INDEX('05_設定'!$H$5:$H$24,MAX(1,COUNTIF('05_設定'!$H$5:$H$24,"?*")))
Name dv_Cust: '05_設定'!$J$5:INDEX('05_設定'!$J$5:$J$104,MAX(1,COUNTIF('05_設定'!$J$5:$J$104,"?*")))
Name dv_Item: '05_設定'!$L$5:INDEX('05_設定'!$L$5:$L$105,MAX(1,COUNTIF('05_設定'!$L$5:$L$105,"?*")))
Name Q_No: '01_入力'!$D$6
Name Q_Ver: '01_入力'!$D$7
Name Q_Date: '01_入力'!$D$8
Name Q_Valid: '01_入力'!$D$9
Name Q_Cust: '01_入力'!$D$10
Name Q_Attn: '01_入力'!$D$11
Name Q_Title: '01_入力'!$D$12
Name Q_CaseID: '01_入力'!$D$13
Name Q_Delivery: '01_入力'!$D$14
Name Q_Pay: '01_入力'!$D$15
Name Q_Note1: '01_入力'!$D$16
Name Q_Note2: '01_入力'!$D$17
Name Q_Note3: '01_入力'!$D$18
Name Q_CustID: '01_入力'!$O$10
Name Q_CustRow: '01_入力'!$P$10
Name Q_LineRows: '01_入力'!$R$21
Name Q_Sub: '01_入力'!$L$38
Name Q_Tax: '01_入力'!$L$39
Name Q_Total: '01_入力'!$L$40
Name QErr: '01_入力'!$R$60
Name QErrText: '01_入力'!$R$61

Sheet 01_入力
A1: 見積入力（01_入力） | K1: テンプレート v1.0
B2: ① 宛先を選ぶ → ② 明細を入力（商品を選んで数量） → ③ 見積書を確認（02_見積書） | K2: ▶ ③ 02_見積書を確認する
B3: =IF(QErr=0,"✓ 入力チェック：問題なし（02_見積書で体裁を確認してから、06_発行控え手順に沿って保存・提出）","⚠ 入力チェック：要確認 "&QErr&" 件 — "&QErrText) -> ⚠ 入力チェック：要確認 7 件 — 見積番号が空欄／版を確認／発行日を確認／顧客が未選択／案件名が空欄／明細がありません／発行元の会社名が未入力（05_設定）
B4: 凡例 | D4: 入力 | F4: 自動表示・確認 | H4: 注意・要確認 | I4: 要確認（エラー）
B5: ① 宛先・見積の基本情報
B6: 見積番号 | H6: =IF(Q_No="","⚠ 見積番号を入力してください","OK：保存名・台帳に使います") -> ⚠ 見積番号を入力してください
B7: 版 | H7: =IF(Q_Ver="","⚠ 版を入力してください（初回は 1）",IF(OR(NOT(ISNUMBER(Q_Ver)),Q_Ver<1,Q_Ver<>INT(Q_Ver)),"⚠ 版は1以上の整数","OK：第"&Q_Ver&"版")) -> ⚠ 版を入力してください（初回は 1）
B8: 発行日 | H8: =IF(Q_Date="","⚠ 発行日を入力してください",IF(NOT(ISNUMBER(Q_Date)),"⚠ 発行日が日付ではありません","OK：発行日 "&TEXT(Q_Date,"yyyy/mm/dd"))) -> ⚠ 発行日を入力してください
B9: 有効期限（任意） | H9: =IF(NOT(ISNUMBER(Q_Date)),"（発行日を入れると表示）",IF(Q_Valid="","使用する有効期限："&TEXT(Q_Date+ValidDays,"yyyy/mm/dd")&"（発行日＋"&ValidDays&"日）",IF(NOT(ISNUMBER(Q_Valid)),"⚠ 有効期限が日付ではありません",IF(Q_Valid<Q_Date,"⚠ 有効期限が発行日より前です","OK：有効期限 "&TEXT(Q_Valid,"yyyy/mm/dd"))))) -> （発行日を入れると表示）
B10: 顧客（選択） | H10: =IF(Q_Cust="","⚠ 顧客を選択してください",IF(Q_CustRow="未登録","⚠ 顧客マスターにない顧客IDです（"&Q_CustID&"）","宛先："&INDEX(tblQCustomers[会社名],Q_CustRow)&""&" "&INDEX(tblQCustomers[住所1],Q_CustRow)&"")) -> ⚠ 顧客を選択してください | O10: =IF(Q_Cust="","",IF(ISNUMBER(FIND("｜",Q_Cust)),LEFT(Q_Cust,FIND("｜",Q_Cust)-1),TRIM(Q_Cust))) | P10: =IF(O10="","",IFERROR(MATCH(O10,tblQCustomers[顧客ID],0),"未登録"))
B11: 部署・宛名（任意） | H11: =IF(Q_CustRow="","",IF(Q_CustRow="未登録","","宛名："&IF(Q_Attn<>"",Q_Attn&" 様（入力した宛名）",IF(INDEX(tblQCustomers[担当者名（既定）],Q_CustRow)&""<>"",TRIM(INDEX(tblQCustomers[部署（既定）],Q_CustRow)&""&" "&INDEX(tblQCustomers[担当者名（既定）],Q_CustRow)&"")&" "&IF(INDEX(tblQCustomers[敬称],Q_CustRow)&""="","様",INDEX(tblQCustomers[敬称],Q_CustRow)&""),IF(INDEX(tblQCustomers[部署（既定）],Q_CustRow)&""<>"",INDEX(tblQCustomers[部署（既定）],Q_CustRow)&""&" 御中（マスターの既定）","会社名 御中")))))
B12: 案件名 | H12: =IF(Q_Title="","⚠ 案件名（件名）を入力してください","OK") -> ⚠ 案件名（件名）を入力してください
B13: 案件ID（任意） | H13: =IF(Q_CaseID="","（任意）","CRM の 02_案件一覧 に見積番号・版・提出日を手入力してください") -> （任意）
B14: 納期 | H14: =IF(Q_Delivery="","（任意）空欄なら見積書では「別途ご相談」と表示","OK") -> （任意）空欄なら見積書では「別途ご相談」と表示
B15: 支払条件（任意） | H15: =IF(Q_Pay="","使用する支払条件："&IF(DefaultPay="","（未設定：05_設定）",DefaultPay)&"（既定）","OK：入力した支払条件") -> 使用する支払条件：（未設定：05_設定）（既定）
B16: 備考 1行目（任意） | H16: ="見積書の備考欄に1行ずつ表示（3行まで）" -> 見積書の備考欄に1行ずつ表示（3行まで）
B17: 備考 2行目（任意） | H17: =IF(LEN(Q_Note1&Q_Note2&Q_Note3)>180,"⚠ 備考が長すぎます（合計180文字まで）","")
B18: 備考 3行目（任意）
B20: ② 明細（最大15行。空行は計算しません）
B21: No | C21: 商品（選択） | D21: 数量 | E21: 単価の上書き（任意） | F21: 品名の補足／手入力の品名 | G21: 手入力の単位 | H21: 品名・仕様（見積書に表示） | I21: 単位 | J21: マスター単価 | K21: 適用単価 | L21: 金額 | M21: 行の状態 | R21: =ROWS(C22:C36) -> 15
B22: 1 | H22: =IF(AND(C22="",D22="",E22="",F22="",G22=""),"",IF(Q22=1,F22&"",IF(ISNUMBER(P22),INDEX(tblItems[品名],P22)&IF(INDEX(tblItems[仕様・型式],P22)&""<>"","（"&INDEX(tblItems[仕様・型式],P22)&"）","")&IF(F22<>"","／"&F22,""),""))) | I22: =IF(AND(C22="",D22="",E22="",F22="",G22=""),"",IF(Q22=1,G22&"",IF(ISNUMBER(P22),INDEX(tblItems[単位],P22)&"",""))) | J22: =IF(ISNUMBER(P22),INDEX(tblItems[標準単価（税抜）],P22),"") | K22: =IF(AND(C22="",D22="",E22="",F22="",G22=""),"",IF(E22<>"",E22,IF(Q22=1,"",J22))) | L22: =IF(LEFT(M22,2)="OK",IF(RoundLine="切り上げ",ROUNDUP(ROUND(D22*K22,6),0),IF(RoundLine="四捨五入",ROUND(D22*K22,0),ROUNDDOWN(ROUND(D22*K22,6),0))),IF(M22="","","要確認")) | M22: =IF(AND(C22="",D22="",E22="",F22="",G22=""),"",IF(C22="","入力未完了：商品を選択",IF(AND(Q22=0,P22="未登録"),"未登録の商品ID（"&O22&"）",IF(D22="","入力未完了：数量なし",IF(NOT(ISNUMBER(D22)),"数量が数値ではない",IF(D22<=0,"数量は0より大きく",IF(AND(E22<>"",NOT(ISNUMBER(E22))),"単価の上書きが数値ではない",IF(AND(ISNUMBER(E22),N(E22)<0),"単価はマイナス不可",IF(AND(Q22=1,OR(F22="",G22="",E22="")),"手入力は品名・単位・単価の上書きが必要",IF(NOT(ISNUMBER(K22)),"マスター単価が未設定",IF(N(K22)=0,IF(OR(ISNUMBER(E22),IF(Q22=0,INDEX(tblItems[無償扱い],P22)&"","")="はい"),"OK（無償）","マスター単価が0円：要確認"),IF(AND(Q22=0,G22<>"",G22<>I22),"OK（単位はマスター優先）","OK")))))))))))) | O22: =IF(OR(C22="",C22="手入力（マスター外）"),"",IF(ISNUMBER(FIND("｜",C22)),LEFT(C22,FIND("｜",C22)-1),TRIM(C22))) | P22: =IF(O22="","",IFERROR(MATCH(O22,tblItems[商品ID],0),"未登録")) | Q22: =IF(C22="手入力（マスター外）",1,0) -> 0
B23: 2 | H23: =IF(AND(C23="",D23="",E23="",F23="",G23=""),"",IF(Q23=1,F23&"",IF(ISNUMBER(P23),INDEX(tblItems[品名],P23)&IF(INDEX(tblItems[仕様・型式],P23)&""<>"","（"&INDEX(tblItems[仕様・型式],P23)&"）","")&IF(F23<>"","／"&F23,""),""))) | I23: =IF(AND(C23="",D23="",E23="",F23="",G23=""),"",IF(Q23=1,G23&"",IF(ISNUMBER(P23),INDEX(tblItems[単位],P23)&"",""))) | J23: =IF(ISNUMBER(P23),INDEX(tblItems[標準単価（税抜）],P23),"") | K23: =IF(AND(C23="",D23="",E23="",F23="",G23=""),"",IF(E23<>"",E23,IF(Q23=1,"",J23))) | L23: =IF(LEFT(M23,2)="OK",IF(RoundLine="切り上げ",ROUNDUP(ROUND(D23*K23,6),0),IF(RoundLine="四捨五入",ROUND(D23*K23,0),ROUNDDOWN(ROUND(D23*K23,6),0))),IF(M23="","","要確認")) | M23: =IF(AND(C23="",D23="",E23="",F23="",G23=""),"",IF(C23="","入力未完了：商品を選択",IF(AND(Q23=0,P23="未登録"),"未登録の商品ID（"&O23&"）",IF(D23="","入力未完了：数量なし",IF(NOT(ISNUMBER(D23)),"数量が数値ではない",IF(D23<=0,"数量は0より大きく",IF(AND(E23<>"",NOT(ISNUMBER(E23))),"単価の上書きが数値ではない",IF(AND(ISNUMBER(E23),N(E23)<0),"単価はマイナス不可",IF(AND(Q23=1,OR(F23="",G23="",E23="")),"手入力は品名・単位・単価の上書きが必要",IF(NOT(ISNUMBER(K23)),"マスター単価が未設定",IF(N(K23)=0,IF(OR(ISNUMBER(E23),IF(Q23=0,INDEX(tblItems[無償扱い],P23)&"","")="はい"),"OK（無償）","マスター単価が0円：要確認"),IF(AND(Q23=0,G23<>"",G23<>I23),"OK（単位はマスター優先）","OK")))))))))))) | O23: =IF(OR(C23="",C23="手入力（マスター外）"),"",IF(ISNUMBER(FIND("｜",C23)),LEFT(C23,FIND("｜",C23)-1),TRIM(C23))) | P23: =IF(O23="","",IFERROR(MATCH(O23,tblItems[商品ID],0),"未登録")) | Q23: =IF(C23="手入力（マスター外）",1,0) -> 0
B24: 3 | H24: =IF(AND(C24="",D24="",E24="",F24="",G24=""),"",IF(Q24=1,F24&"",IF(ISNUMBER(P24),INDEX(tblItems[品名],P24)&IF(INDEX(tblItems[仕様・型式],P24)&""<>"","（"&INDEX(tblItems[仕様・型式],P24)&"）","")&IF(F24<>"","／"&F24,""),""))) | I24: =IF(AND(C24="",D24="",E24="",F24="",G24=""),"",IF(Q24=1,G24&"",IF(ISNUMBER(P24),INDEX(tblItems[単位],P24)&"",""))) | J24: =IF(ISNUMBER(P24),INDEX(tblItems[標準単価（税抜）],P24),"") | K24: =IF(AND(C24="",D24="",E24="",F24="",G24=""),"",IF(E24<>"",E24,IF(Q24=1,"",J24))) | L24: =IF(LEFT(M24,2)="OK",IF(RoundLine="切り上げ",ROUNDUP(ROUND(D24*K24,6),0),IF(RoundLine="四捨五入",ROUND(D24*K24,0),ROUNDDOWN(ROUND(D24*K24,6),0))),IF(M24="","","要確認")) | M24: =IF(AND(C24="",D24="",E24="",F24="",G24=""),"",IF(C24="","入力未完了：商品を選択",IF(AND(Q24=0,P24="未登録"),"未登録の商品ID（"&O24&"）",IF(D24="","入力未完了：数量なし",IF(NOT(ISNUMBER(D24)),"数量が数値ではない",IF(D24<=0,"数量は0より大きく",IF(AND(E24<>"",NOT(ISNUMBER(E24))),"単価の上書きが数値ではない",IF(AND(ISNUMBER(E24),N(E24)<0),"単価はマイナス不可",IF(AND(Q24=1,OR(F24="",G24="",E24="")),"手入力は品名・単位・単価の上書きが必要",IF(NOT(ISNUMBER(K24)),"マスター単価が未設定",IF(N(K24)=0,IF(OR(ISNUMBER(E24),IF(Q24=0,INDEX(tblItems[無償扱い],P24)&"","")="はい"),"OK（無償）","マスター単価が0円：要確認"),IF(AND(Q24=0,G24<>"",G24<>I24),"OK（単位はマスター優先）","OK")))))))))))) | O24: =IF(OR(C24="",C24="手入力（マスター外）"),"",IF(ISNUMBER(FIND("｜",C24)),LEFT(C24,FIND("｜",C24)-1),TRIM(C24))) | P24: =IF(O24="","",IFERROR(MATCH(O24,tblItems[商品ID],0),"未登録")) | Q24: =IF(C24="手入力（マスター外）",1,0) -> 0
B25: 4 | H25: =IF(AND(C25="",D25="",E25="",F25="",G25=""),"",IF(Q25=1,F25&"",IF(ISNUMBER(P25),INDEX(tblItems[品名],P25)&IF(INDEX(tblItems[仕様・型式],P25)&""<>"","（"&INDEX(tblItems[仕様・型式],P25)&"）","")&IF(F25<>"","／"&F25,""),""))) | I25: =IF(AND(C25="",D25="",E25="",F25="",G25=""),"",IF(Q25=1,G25&"",IF(ISNUMBER(P25),INDEX(tblItems[単位],P25)&"",""))) | J25: =IF(ISNUMBER(P25),INDEX(tblItems[標準単価（税抜）],P25),"") | K25: =IF(AND(C25="",D25="",E25="",F25="",G25=""),"",IF(E25<>"",E25,IF(Q25=1,"",J25))) | L25: =IF(LEFT(M25,2)="OK",IF(RoundLine="切り上げ",ROUNDUP(ROUND(D25*K25,6),0),IF(RoundLine="四捨五入",ROUND(D25*K25,0),ROUNDDOWN(ROUND(D25*K25,6),0))),IF(M25="","","要確認")) | M25: =IF(AND(C25="",D25="",E25="",F25="",G25=""),"",IF(C25="","入力未完了：商品を選択",IF(AND(Q25=0,P25="未登録"),"未登録の商品ID（"&O25&"）",IF(D25="","入力未完了：数量なし",IF(NOT(ISNUMBER(D25)),"数量が数値ではない",IF(D25<=0,"数量は0より大きく",IF(AND(E25<>"",NOT(ISNUMBER(E25))),"単価の上書きが数値ではない",IF(AND(ISNUMBER(E25),N(E25)<0),"単価はマイナス不可",IF(AND(Q25=1,OR(F25="",G25="",E25="")),"手入力は品名・単位・単価の上書きが必要",IF(NOT(ISNUMBER(K25)),"マスター単価が未設定",IF(N(K25)=0,IF(OR(ISNUMBER(E25),IF(Q25=0,INDEX(tblItems[無償扱い],P25)&"","")="はい"),"OK（無償）","マスター単価が0円：要確認"),IF(AND(Q25=0,G25<>"",G25<>I25),"OK（単位はマスター優先）","OK")))))))))))) | O25: =IF(OR(C25="",C25="手入力（マスター外）"),"",IF(ISNUMBER(FIND("｜",C25)),LEFT(C25,FIND("｜",C25)-1),TRIM(C25))) | P25: =IF(O25="","",IFERROR(MATCH(O25,tblItems[商品ID],0),"未登録")) | Q25: =IF(C25="手入力（マスター外）",1,0) -> 0
B26: 5 | H26: =IF(AND(C26="",D26="",E26="",F26="",G26=""),"",IF(Q26=1,F26&"",IF(ISNUMBER(P26),INDEX(tblItems[品名],P26)&IF(INDEX(tblItems[仕様・型式],P26)&""<>"","（"&INDEX(tblItems[仕様・型式],P26)&"）","")&IF(F26<>"","／"&F26,""),""))) | I26: =IF(AND(C26="",D26="",E26="",F26="",G26=""),"",IF(Q26=1,G26&"",IF(ISNUMBER(P26),INDEX(tblItems[単位],P26)&"",""))) | J26: =IF(ISNUMBER(P26),INDEX(tblItems[標準単価（税抜）],P26),"") | K26: =IF(AND(C26="",D26="",E26="",F26="",G26=""),"",IF(E26<>"",E26,IF(Q26=1,"",J26))) | L26: =IF(LEFT(M26,2)="OK",IF(RoundLine="切り上げ",ROUNDUP(ROUND(D26*K26,6),0),IF(RoundLine="四捨五入",ROUND(D26*K26,0),ROUNDDOWN(ROUND(D26*K26,6),0))),IF(M26="","","要確認")) | M26: =IF(AND(C26="",D26="",E26="",F26="",G26=""),"",IF(C26="","入力未完了：商品を選択",IF(AND(Q26=0,P26="未登録"),"未登録の商品ID（"&O26&"）",IF(D26="","入力未完了：数量なし",IF(NOT(ISNUMBER(D26)),"数量が数値ではない",IF(D26<=0,"数量は0より大きく",IF(AND(E26<>"",NOT(ISNUMBER(E26))),"単価の上書きが数値ではない",IF(AND(ISNUMBER(E26),N(E26)<0),"単価はマイナス不可",IF(AND(Q26=1,OR(F26="",G26="",E26="")),"手入力は品名・単位・単価の上書きが必要",IF(NOT(ISNUMBER(K26)),"マスター単価が未設定",IF(N(K26)=0,IF(OR(ISNUMBER(E26),IF(Q26=0,INDEX(tblItems[無償扱い],P26)&"","")="はい"),"OK（無償）","マスター単価が0円：要確認"),IF(AND(Q26=0,G26<>"",G26<>I26),"OK（単位はマスター優先）","OK")))))))))))) | O26: =IF(OR(C26="",C26="手入力（マスター外）"),"",IF(ISNUMBER(FIND("｜",C26)),LEFT(C26,FIND("｜",C26)-1),TRIM(C26))) | P26: =IF(O26="","",IFERROR(MATCH(O26,tblItems[商品ID],0),"未登録")) | Q26: =IF(C26="手入力（マスター外）",1,0) -> 0
B27: 6 | H27: =IF(AND(C27="",D27="",E27="",F27="",G27=""),"",IF(Q27=1,F27&"",IF(ISNUMBER(P27),INDEX(tblItems[品名],P27)&IF(INDEX(tblItems[仕様・型式],P27)&""<>"","（"&INDEX(tblItems[仕様・型式],P27)&"）","")&IF(F27<>"","／"&F27,""),""))) | I27: =IF(AND(C27="",D27="",E27="",F27="",G27=""),"",IF(Q27=1,G27&"",IF(ISNUMBER(P27),INDEX(tblItems[単位],P27)&"",""))) | J27: =IF(ISNUMBER(P27),INDEX(tblItems[標準単価（税抜）],P27),"") | K27: =IF(AND(C27="",D27="",E27="",F27="",G27=""),"",IF(E27<>"",E27,IF(Q27=1,"",J27))) | L27: =IF(LEFT(M27,2)="OK",IF(RoundLine="切り上げ",ROUNDUP(ROUND(D27*K27,6),0),IF(RoundLine="四捨五入",ROUND(D27*K27,0),ROUNDDOWN(ROUND(D27*K27,6),0))),IF(M27="","","要確認")) | M27: =IF(AND(C27="",D27="",E27="",F27="",G27=""),"",IF(C27="","入力未完了：商品を選択",IF(AND(Q27=0,P27="未登録"),"未登録の商品ID（"&O27&"）",IF(D27="","入力未完了：数量なし",IF(NOT(ISNUMBER(D27)),"数量が数値ではない",IF(D27<=0,"数量は0より大きく",IF(AND(E27<>"",NOT(ISNUMBER(E27))),"単価の上書きが数値ではない",IF(AND(ISNUMBER(E27),N(E27)<0),"単価はマイナス不可",IF(AND(Q27=1,OR(F27="",G27="",E27="")),"手入力は品名・単位・単価の上書きが必要",IF(NOT(ISNUMBER(K27)),"マスター単価が未設定",IF(N(K27)=0,IF(OR(ISNUMBER(E27),IF(Q27=0,INDEX(tblItems[無償扱い],P27)&"","")="はい"),"OK（無償）","マスター単価が0円：要確認"),IF(AND(Q27=0,G27<>"",G27<>I27),"OK（単位はマスター優先）","OK")))))))))))) | O27: =IF(OR(C27="",C27="手入力（マスター外）"),"",IF(ISNUMBER(FIND("｜",C27)),LEFT(C27,FIND("｜",C27)-1),TRIM(C27))) | P27: =IF(O27="","",IFERROR(MATCH(O27,tblItems[商品ID],0),"未登録")) | Q27: =IF(C27="手入力（マスター外）",1,0) -> 0
B28: 7 | H28: =IF(AND(C28="",D28="",E28="",F28="",G28=""),"",IF(Q28=1,F28&"",IF(ISNUMBER(P28),INDEX(tblItems[品名],P28)&IF(INDEX(tblItems[仕様・型式],P28)&""<>"","（"&INDEX(tblItems[仕様・型式],P28)&"）","")&IF(F28<>"","／"&F28,""),""))) | I28: =IF(AND(C28="",D28="",E28="",F28="",G28=""),"",IF(Q28=1,G28&"",IF(ISNUMBER(P28),INDEX(tblItems[単位],P28)&"",""))) | J28: =IF(ISNUMBER(P28),INDEX(tblItems[標準単価（税抜）],P28),"") | K28: =IF(AND(C28="",D28="",E28="",F28="",G28=""),"",IF(E28<>"",E28,IF(Q28=1,"",J28))) | L28: =IF(LEFT(M28,2)="OK",IF(RoundLine="切り上げ",ROUNDUP(ROUND(D28*K28,6),0),IF(RoundLine="四捨五入",ROUND(D28*K28,0),ROUNDDOWN(ROUND(D28*K28,6),0))),IF(M28="","","要確認")) | M28: =IF(AND(C28="",D28="",E28="",F28="",G28=""),"",IF(C28="","入力未完了：商品を選択",IF(AND(Q28=0,P28="未登録"),"未登録の商品ID（"&O28&"）",IF(D28="","入力未完了：数量なし",IF(NOT(ISNUMBER(D28)),"数量が数値ではない",IF(D28<=0,"数量は0より大きく",IF(AND(E28<>"",NOT(ISNUMBER(E28))),"単価の上書きが数値ではない",IF(AND(ISNUMBER(E28),N(E28)<0),"単価はマイナス不可",IF(AND(Q28=1,OR(F28="",G28="",E28="")),"手入力は品名・単位・単価の上書きが必要",IF(NOT(ISNUMBER(K28)),"マスター単価が未設定",IF(N(K28)=0,IF(OR(ISNUMBER(E28),IF(Q28=0,INDEX(tblItems[無償扱い],P28)&"","")="はい"),"OK（無償）","マスター単価が0円：要確認"),IF(AND(Q28=0,G28<>"",G28<>I28),"OK（単位はマスター優先）","OK")))))))))))) | O28: =IF(OR(C28="",C28="手入力（マスター外）"),"",IF(ISNUMBER(FIND("｜",C28)),LEFT(C28,FIND("｜",C28)-1),TRIM(C28))) | P28: =IF(O28="","",IFERROR(MATCH(O28,tblItems[商品ID],0),"未登録")) | Q28: =IF(C28="手入力（マスター外）",1,0) -> 0
B29: 8 | H29: =IF(AND(C29="",D29="",E29="",F29="",G29=""),"",IF(Q29=1,F29&"",IF(ISNUMBER(P29),INDEX(tblItems[品名],P29)&IF(INDEX(tblItems[仕様・型式],P29)&""<>"","（"&INDEX(tblItems[仕様・型式],P29)&"）","")&IF(F29<>"","／"&F29,""),""))) | I29: =IF(AND(C29="",D29="",E29="",F29="",G29=""),"",IF(Q29=1,G29&"",IF(ISNUMBER(P29),INDEX(tblItems[単位],P29)&"",""))) | J29: =IF(ISNUMBER(P29),INDEX(tblItems[標準単価（税抜）],P29),"") | K29: =IF(AND(C29="",D29="",E29="",F29="",G29=""),"",IF(E29<>"",E29,IF(Q29=1,"",J29))) | L29: =IF(LEFT(M29,2)="OK",IF(RoundLine="切り上げ",ROUNDUP(ROUND(D29*K29,6),0),IF(RoundLine="四捨五入",ROUND(D29*K29,0),ROUNDDOWN(ROUND(D29*K29,6),0))),IF(M29="","","要確認")) | M29: =IF(AND(C29="",D29="",E29="",F29="",G29=""),"",IF(C29="","入力未完了：商品を選択",IF(AND(Q29=0,P29="未登録"),"未登録の商品ID（"&O29&"）",IF(D29="","入力未完了：数量なし",IF(NOT(ISNUMBER(D29)),"数量が数値ではない",IF(D29<=0,"数量は0より大きく",IF(AND(E29<>"",NOT(ISNUMBER(E29))),"単価の上書きが数値ではない",IF(AND(ISNUMBER(E29),N(E29)<0),"単価はマイナス不可",IF(AND(Q29=1,OR(F29="",G29="",E29="")),"手入力は品名・単位・単価の上書きが必要",IF(NOT(ISNUMBER(K29)),"マスター単価が未設定",IF(N(K29)=0,IF(OR(ISNUMBER(E29),IF(Q29=0,INDEX(tblItems[無償扱い],P29)&"","")="はい"),"OK（無償）","マスター単価が0円：要確認"),IF(AND(Q29=0,G29<>"",G29<>I29),"OK（単位はマスター優先）","OK")))))))))))) | O29: =IF(OR(C29="",C29="手入力（マスター外）"),"",IF(ISNUMBER(FIND("｜",C29)),LEFT(C29,FIND("｜",C29)-1),TRIM(C29))) | P29: =IF(O29="","",IFERROR(MATCH(O29,tblItems[商品ID],0),"未登録")) | Q29: =IF(C29="手入力（マスター外）",1,0) -> 0
B30: 9 | H30: =IF(AND(C30="",D30="",E30="",F30="",G30=""),"",IF(Q30=1,F30&"",IF(ISNUMBER(P30),INDEX(tblItems[品名],P30)&IF(INDEX(tblItems[仕様・型式],P30)&""<>"","（"&INDEX(tblItems[仕様・型式],P30)&"）","")&IF(F30<>"","／"&F30,""),""))) | I30: =IF(AND(C30="",D30="",E30="",F30="",G30=""),"",IF(Q30=1,G30&"",IF(ISNUMBER(P30),INDEX(tblItems[単位],P30)&"",""))) | J30: =IF(ISNUMBER(P30),INDEX(tblItems[標準単価（税抜）],P30),"") | K30: =IF(AND(C30="",D30="",E30="",F30="",G30=""),"",IF(E30<>"",E30,IF(Q30=1,"",J30))) | L30: =IF(LEFT(M30,2)="OK",IF(RoundLine="切り上げ",ROUNDUP(ROUND(D30*K30,6),0),IF(RoundLine="四捨五入",ROUND(D30*K30,0),ROUNDDOWN(ROUND(D30*K30,6),0))),IF(M30="","","要確認")) | M30: =IF(AND(C30="",D30="",E30="",F30="",G30=""),"",IF(C30="","入力未完了：商品を選択",IF(AND(Q30=0,P30="未登録"),"未登録の商品ID（"&O30&"）",IF(D30="","入力未完了：数量なし",IF(NOT(ISNUMBER(D30)),"数量が数値ではない",IF(D30<=0,"数量は0より大きく",IF(AND(E30<>"",NOT(ISNUMBER(E30))),"単価の上書きが数値ではない",IF(AND(ISNUMBER(E30),N(E30)<0),"単価はマイナス不可",IF(AND(Q30=1,OR(F30="",G30="",E30="")),"手入力は品名・単位・単価の上書きが必要",IF(NOT(ISNUMBER(K30)),"マスター単価が未設定",IF(N(K30)=0,IF(OR(ISNUMBER(E30),IF(Q30=0,INDEX(tblItems[無償扱い],P30)&"","")="はい"),"OK（無償）","マスター単価が0円：要確認"),IF(AND(Q30=0,G30<>"",G30<>I30),"OK（単位はマスター優先）","OK")))))))))))) | O30: =IF(OR(C30="",C30="手入力（マスター外）"),"",IF(ISNUMBER(FIND("｜",C30)),LEFT(C30,FIND("｜",C30)-1),TRIM(C30))) | P30: =IF(O30="","",IFERROR(MATCH(O30,tblItems[商品ID],0),"未登録")) | Q30: =IF(C30="手入力（マスター外）",1,0) -> 0
B31: 10 | H31: =IF(AND(C31="",D31="",E31="",F31="",G31=""),"",IF(Q31=1,F31&"",IF(ISNUMBER(P31),INDEX(tblItems[品名],P31)&IF(INDEX(tblItems[仕様・型式],P31)&""<>"","（"&INDEX(tblItems[仕様・型式],P31)&"）","")&IF(F31<>"","／"&F31,""),""))) | I31: =IF(AND(C31="",D31="",E31="",F31="",G31=""),"",IF(Q31=1,G31&"",IF(ISNUMBER(P31),INDEX(tblItems[単位],P31)&"",""))) | J31: =IF(ISNUMBER(P31),INDEX(tblItems[標準単価（税抜）],P31),"") | K31: =IF(AND(C31="",D31="",E31="",F31="",G31=""),"",IF(E31<>"",E31,IF(Q31=1,"",J31))) | L31: =IF(LEFT(M31,2)="OK",IF(RoundLine="切り上げ",ROUNDUP(ROUND(D31*K31,6),0),IF(RoundLine="四捨五入",ROUND(D31*K31,0),ROUNDDOWN(ROUND(D31*K31,6),0))),IF(M31="","","要確認")) | M31: =IF(AND(C31="",D31="",E31="",F31="",G31=""),"",IF(C31="","入力未完了：商品を選択",IF(AND(Q31=0,P31="未登録"),"未登録の商品ID（"&O31&"）",IF(D31="","入力未完了：数量なし",IF(NOT(ISNUMBER(D31)),"数量が数値ではない",IF(D31<=0,"数量は0より大きく",IF(AND(E31<>"",NOT(ISNUMBER(E31))),"単価の上書きが数値ではない",IF(AND(ISNUMBER(E31),N(E31)<0),"単価はマイナス不可",IF(AND(Q31=1,OR(F31="",G31="",E31="")),"手入力は品名・単位・単価の上書きが必要",IF(NOT(ISNUMBER(K31)),"マスター単価が未設定",IF(N(K31)=0,IF(OR(ISNUMBER(E31),IF(Q31=0,INDEX(tblItems[無償扱い],P31)&"","")="はい"),"OK（無償）","マスター単価が0円：要確認"),IF(AND(Q31=0,G31<>"",G31<>I31),"OK（単位はマスター優先）","OK")))))))))))) | O31: =IF(OR(C31="",C31="手入力（マスター外）"),"",IF(ISNUMBER(FIND("｜",C31)),LEFT(C31,FIND("｜",C31)-1),TRIM(C31))) | P31: =IF(O31="","",IFERROR(MATCH(O31,tblItems[商品ID],0),"未登録")) | Q31: =IF(C31="手入力（マスター外）",1,0) -> 0
B32: 11 | H32: =IF(AND(C32="",D32="",E32="",F32="",G32=""),"",IF(Q32=1,F32&"",IF(ISNUMBER(P32),INDEX(tblItems[品名],P32)&IF(INDEX(tblItems[仕様・型式],P32)&""<>"","（"&INDEX(tblItems[仕様・型式],P32)&"）","")&IF(F32<>"","／"&F32,""),""))) | I32: =IF(AND(C32="",D32="",E32="",F32="",G32=""),"",IF(Q32=1,G32&"",IF(ISNUMBER(P32),INDEX(tblItems[単位],P32)&"",""))) | J32: =IF(ISNUMBER(P32),INDEX(tblItems[標準単価（税抜）],P32),"") | K32: =IF(AND(C32="",D32="",E32="",F32="",G32=""),"",IF(E32<>"",E32,IF(Q32=1,"",J32))) | L32: =IF(LEFT(M32,2)="OK",IF(RoundLine="切り上げ",ROUNDUP(ROUND(D32*K32,6),0),IF(RoundLine="四捨五入",ROUND(D32*K32,0),ROUNDDOWN(ROUND(D32*K32,6),0))),IF(M32="","","要確認")) | M32: =IF(AND(C32="",D32="",E32="",F32="",G32=""),"",IF(C32="","入力未完了：商品を選択",IF(AND(Q32=0,P32="未登録"),"未登録の商品ID（"&O32&"）",IF(D32="","入力未完了：数量なし",IF(NOT(ISNUMBER(D32)),"数量が数値ではない",IF(D32<=0,"数量は0より大きく",IF(AND(E32<>"",NOT(ISNUMBER(E32))),"単価の上書きが数値ではない",IF(AND(ISNUMBER(E32),N(E32)<0),"単価はマイナス不可",IF(AND(Q32=1,OR(F32="",G32="",E32="")),"手入力は品名・単位・単価の上書きが必要",IF(NOT(ISNUMBER(K32)),"マスター単価が未設定",IF(N(K32)=0,IF(OR(ISNUMBER(E32),IF(Q32=0,INDEX(tblItems[無償扱い],P32)&"","")="はい"),"OK（無償）","マスター単価が0円：要確認"),IF(AND(Q32=0,G32<>"",G32<>I32),"OK（単位はマスター優先）","OK")))))))))))) | O32: =IF(OR(C32="",C32="手入力（マスター外）"),"",IF(ISNUMBER(FIND("｜",C32)),LEFT(C32,FIND("｜",C32)-1),TRIM(C32))) | P32: =IF(O32="","",IFERROR(MATCH(O32,tblItems[商品ID],0),"未登録")) | Q32: =IF(C32="手入力（マスター外）",1,0) -> 0
B33: 12 | H33: =IF(AND(C33="",D33="",E33="",F33="",G33=""),"",IF(Q33=1,F33&"",IF(ISNUMBER(P33),INDEX(tblItems[品名],P33)&IF(INDEX(tblItems[仕様・型式],P33)&""<>"","（"&INDEX(tblItems[仕様・型式],P33)&"）","")&IF(F33<>"","／"&F33,""),""))) | I33: =IF(AND(C33="",D33="",E33="",F33="",G33=""),"",IF(Q33=1,G33&"",IF(ISNUMBER(P33),INDEX(tblItems[単位],P33)&"",""))) | J33: =IF(ISNUMBER(P33),INDEX(tblItems[標準単価（税抜）],P33),"") | K33: =IF(AND(C33="",D33="",E33="",F33="",G33=""),"",IF(E33<>"",E33,IF(Q33=1,"",J33))) | L33: =IF(LEFT(M33,2)="OK",IF(RoundLine="切り上げ",ROUNDUP(ROUND(D33*K33,6),0),IF(RoundLine="四捨五入",ROUND(D33*K33,0),ROUNDDOWN(ROUND(D33*K33,6),0))),IF(M33="","","要確認")) | M33: =IF(AND(C33="",D33="",E33="",F33="",G33=""),"",IF(C33="","入力未完了：商品を選択",IF(AND(Q33=0,P33="未登録"),"未登録の商品ID（"&O33&"）",IF(D33="","入力未完了：数量なし",IF(NOT(ISNUMBER(D33)),"数量が数値ではない",IF(D33<=0,"数量は0より大きく",IF(AND(E33<>"",NOT(ISNUMBER(E33))),"単価の上書きが数値ではない",IF(AND(ISNUMBER(E33),N(E33)<0),"単価はマイナス不可",IF(AND(Q33=1,OR(F33="",G33="",E33="")),"手入力は品名・単位・単価の上書きが必要",IF(NOT(ISNUMBER(K33)),"マスター単価が未設定",IF(N(K33)=0,IF(OR(ISNUMBER(E33),IF(Q33=0,INDEX(tblItems[無償扱い],P33)&"","")="はい"),"OK（無償）","マスター単価が0円：要確認"),IF(AND(Q33=0,G33<>"",G33<>I33),"OK（単位はマスター優先）","OK")))))))))))) | O33: =IF(OR(C33="",C33="手入力（マスター外）"),"",IF(ISNUMBER(FIND("｜",C33)),LEFT(C33,FIND("｜",C33)-1),TRIM(C33))) | P33: =IF(O33="","",IFERROR(MATCH(O33,tblItems[商品ID],0),"未登録")) | Q33: =IF(C33="手入力（マスター外）",1,0) -> 0
... B36: 15 | H36: =IF(AND(C36="",D36="",E36="",F36="",G36=""),"",IF(Q36=1,F36&"",IF(ISNUMBER(P36),INDEX(tblItems[品名],P36)&IF(INDEX(tblItems[仕様・型式],P36)&""<>"","（"&INDEX(tblItems[仕様・型式],P36)&"）","")&IF(F36<>"","／"&F36,""),""))) | I36: =IF(AND(C36="",D36="",E36="",F36="",G36=""),"",IF(Q36=1,G36&"",IF(ISNUMBER(P36),INDEX(tblItems[単位],P36)&"",""))) | J36: =IF(ISNUMBER(P36),INDEX(tblItems[標準単価（税抜）],P36),"") | K36: =IF(AND(C36="",D36="",E36="",F36="",G36=""),"",IF(E36<>"",E36,IF(Q36=1,"",J36))) | L36: =IF(LEFT(M36,2)="OK",IF(RoundLine="切り上げ",ROUNDUP(ROUND(D36*K36,6),0),IF(RoundLine="四捨五入",ROUND(D36*K36,0),ROUNDDOWN(ROUND(D36*K36,6),0))),IF(M36="","","要確認")) | M36: =IF(AND(C36="",D36="",E36="",F36="",G36=""),"",IF(C36="","入力未完了：商品を選択",IF(AND(Q36=0,P36="未登録"),"未登録の商品ID（"&O36&"）",IF(D36="","入力未完了：数量なし",IF(NOT(ISNUMBER(D36)),"数量が数値ではない",IF(D36<=0,"数量は0より大きく",IF(AND(E36<>"",NOT(ISNUMBER(E36))),"単価の上書きが数値ではない",IF(AND(ISNUMBER(E36),N(E36)<0),"単価はマイナス不可",IF(AND(Q36=1,OR(F36="",G36="",E36="")),"手入力は品名・単位・単価の上書きが必要",IF(NOT(ISNUMBER(K36)),"マスター単価が未設定",IF(N(K36)=0,IF(OR(ISNUMBER(E36),IF(Q36=0,INDEX(tblItems[無償扱い],P36)&"","")="はい"),"OK（無償）","マスター単価が0円：要確認"),IF(AND(Q36=0,G36<>"",G36<>I36),"OK（単位はマスター優先）","OK")))))))))))) | O36: =IF(OR(C36="",C36="手入力（マスター外）"),"",IF(ISNUMBER(FIND("｜",C36)),LEFT(C36,FIND("｜",C36)-1),TRIM(C36))) | P36: =IF(O36="","",IFERROR(MATCH(O36,tblItems[商品ID],0),"未登録")) | Q36: =IF(C36="手入力（マスター外）",1,0) -> 0
B37: ▲ 明細は15行までです。この表に行を挿入・削除しないでください（16件以上は見積を分けるか別紙に）。
B38: ="参考：状態が OK の行だけの合計（税抜）＝ "&TEXT(SUMIF(M22:M36,"OK*",L22:L36),"#,##0")&" 円／OK の行 "&COUNTIF(M22:M36,"OK*")&" 行・要確認の行 "&(COUNTIF(M22:M36,"?*")-COUNTIF(M22:M36,"OK*"))&" 行"&CHAR(10)&"金額＝数量×適用単価（円未満"&RoundLine&"）。適用単価＝単価の上書きがあればその値、なければマスター単価。"&CHAR(10)&"マスター品目の品名・単位はマスターが優先（補足欄は品名の後ろに追記）。" -> 参考：状態が OK の行だけの合計（税抜）＝ 0 円／OK の行 0 行・要確認の行 0 行 金額＝数量×適用単価（円未満切り捨て）。適用単価＝単価の上書きがあればその値、なければマスター単価。 マスター品目の品名・単位はマスターが優先（補足欄は品名の後ろに追記）。 | J38: 小計（税抜） | L38: =IF(QErr>0,"要確認",SUM(L22:L36)) -> 要確認
J39: ="消費税（"&TEXT(TaxRate,"0%")&"・"&RoundTax&"）" -> 消費税（10%・切り捨て） | L39: =IF(QErr>0,"要確認",IF(RoundTax="切り上げ",ROUNDUP(ROUND(Q_Sub*TaxRate,6),0),IF(RoundTax="四捨五入",ROUND(Q_Sub*TaxRate,0),ROUNDDOWN(ROUND(Q_Sub*TaxRate,6),0)))) -> 要確認
J40: 合計（税込） | L40: =IF(QErr>0,"要確認",Q_Sub+Q_Tax) -> 要確認 | R40: =IF(Q_No="","見積番号が空欄","") -> 見積番号が空欄
R41: =IF(OR(Q_Ver="",NOT(ISNUMBER(Q_Ver)),N(Q_Ver)<1,N(Q_Ver)<>INT(N(Q_Ver))),"版を確認","") -> 版を確認
R42: =IF(OR(Q_Date="",NOT(ISNUMBER(Q_Date))),"発行日を確認","") -> 発行日を確認
R43: =IF(AND(Q_Valid<>"",OR(NOT(ISNUMBER(Q_Valid)),N(Q_Valid)<N(Q_Date))),"有効期限を確認","")
...

Sheet 02_見積書
B2: =DocTitle -> 御見積書
B3: =SampleMark&IF(AND(SampleMark<>"",QErr>0)," ","")&IF(QErr>0,"【下書き：入力要確認 "&QErr&" 件（01_入力の上部を確認）】","") -> 【下書き：入力要確認 7 件（01_入力の上部を確認）】
B5: =IF(Q_CustRow="","（顧客を選択してください）",IF(Q_CustRow="未登録","（未登録の顧客）",IF(OR(Q_CustRow="",Q_CustRow="未登録"),"",INDEX(tblQCustomers[会社名],Q_CustRow)&"")&IF(IF(Q_Attn<>"",Q_Attn&" 様",IF(IF(OR(Q_CustRow="",Q_CustRow="未登録"),"",INDEX(tblQCustomers[担当者名（既定）],Q_CustRow)&"")<>"",TRIM(IF(OR(Q_CustRow="",Q_CustRow="未登録"),"",INDEX(tblQCustomers[部署（既定）],Q_CustRow)&"")&" "&IF(OR(Q_CustRow="",Q_CustRow="未登録"),"",INDEX(tblQCustomers[担当者名（既定）],Q_CustRow)&""))&" "&IF(IF(OR(Q_CustRow="",Q_CustRow="未登録"),"",INDEX(tblQCustomers[敬称],Q_CustRow)&"")="","様",IF(OR(Q_CustRow="",Q_CustRow="未登録"),"",INDEX(tblQCustomers[敬称],Q_CustRow)&"")),""))="",IF(IF(OR(Q_CustRow="",Q_CustRow="未登録"),"",INDEX(tblQCustomers[部署（既定）],Q_CustRow)&"")<>""," "&IF(OR(Q_CustRow="",Q_CustRow="未登録"),"",INDEX(tblQCustomers[部署（既定）],Q_CustRow)&""),"")&" 御中",""))) -> （顧客を選択してください） | F5: 見積番号 | G5: =IF(Q_No="","（未入力）",Q_No&"") -> （未入力）
B6: =IF(Q_Attn<>"",Q_Attn&" 様",IF(IF(OR(Q_CustRow="",Q_CustRow="未登録"),"",INDEX(tblQCustomers[担当者名（既定）],Q_CustRow)&"")<>"",TRIM(IF(OR(Q_CustRow="",Q_CustRow="未登録"),"",INDEX(tblQCustomers[部署（既定）],Q_CustRow)&"")&" "&IF(OR(Q_CustRow="",Q_CustRow="未登録"),"",INDEX(tblQCustomers[担当者名（既定）],Q_CustRow)&""))&" "&IF(IF(OR(Q_CustRow="",Q_CustRow="未登録"),"",INDEX(tblQCustomers[敬称],Q_CustRow)&"")="","様",IF(OR(Q_CustRow="",Q_CustRow="未登録"),"",INDEX(tblQCustomers[敬称],Q_CustRow)&"")),"")) | F6: 版 | G6: =IF(ISNUMBER(Q_Ver),"第"&Q_Ver&"版","（未入力）") -> （未入力）
B7: =IF(IF(OR(Q_CustRow="",Q_CustRow="未登録"),"",INDEX(tblQCustomers[郵便番号],Q_CustRow)&"")<>"","〒"&IF(OR(Q_CustRow="",Q_CustRow="未登録"),"",INDEX(tblQCustomers[郵便番号],Q_CustRow)&"")&" ","")&IF(OR(Q_CustRow="",Q_CustRow="未登録"),"",INDEX(tblQCustomers[住所1],Q_CustRow)&"")&IF(IF(OR(Q_CustRow="",Q_CustRow="未登録"),"",INDEX(tblQCustomers[住所2],Q_CustRow)&"")<>""," "&IF(OR(Q_CustRow="",Q_CustRow="未登録"),"",INDEX(tblQCustomers[住所2],Q_CustRow)&""),"") | F7: 発行日 | G7: =IF(ISNUMBER(Q_Date),Q_Date,"（未入力）") -> （未入力）
F8: 有効期限 | G8: =IF(ISNUMBER(Q_Valid),Q_Valid,IF(ISNUMBER(Q_Date),Q_Date+ValidDays,""))
B9: 下記のとおりお見積り申し上げます。
B10: 件名 | C10: =IF(Q_Title="","（未入力）",Q_Title&"") -> （未入力） | F10: =IF(Iss_Name="","（発行元：05_設定に入力）",Iss_Name&"") -> （発行元：05_設定に入力）
B11: 納期 | C11: =IF(Q_Delivery="","別途ご相談",Q_Delivery&"") -> 別途ご相談 | F11: =IF(Iss_Zip<>"","〒"&Iss_Zip&" ","")&Iss_Addr1
B12: 支払条件 | C12: =IF(Q_Pay<>"",Q_Pay&"",IF(DefaultPay<>"",DefaultPay&"","別途ご相談")) -> 別途ご相談 | F12: =Iss_Addr2&""
B13: 有効期限 | C13: =IF(ISNUMBER(G8),TEXT(G8,"yyyy年m月d日")&"まで","") | F13: =IF(Iss_Tel<>"","TEL "&Iss_Tel,"")
F14: =Iss_Mail&""
F15: =IF(Iss_Staff<>"","担当："&Iss_Staff,"")
F16: =IF(Iss_RegNo<>"","登録番号："&Iss_RegNo,"")
B18: 合計金額（税込） | D18: =IF(ISNUMBER(Q_Total),Q_Total,"入力要確認") -> 入力要確認
B20: No | C20: 品名・仕様 | D20: 数量 | E20: 単位 | F20: 単価 | G20: 金額
B21: =IF('01_入力'!$M$22="","",1) | C21: =IF('01_入力'!$M$22="","",IF('01_入力'!$H$22="","（品名未確定）",'01_入力'!$H$22)) | D21: =IF(OR('01_入力'!$M$22="",NOT(ISNUMBER('01_入力'!$D$22))),"",IF('01_入力'!$D$22=INT('01_入力'!$D$22),TEXT('01_入力'!$D$22,"#,##0"),TEXT('01_入力'!$D$22,"#,##0.###"))) | E21: =IF('01_入力'!$M$22="","",'01_入力'!$I$22&"") | F21: =IF(OR(LEFT('01_入力'!$M$22,2)<>"OK",NOT(ISNUMBER('01_入力'!$K$22))),"",IF('01_入力'!$K$22=INT('01_入力'!$K$22),TEXT('01_入力'!$K$22,"#,##0"),TEXT('01_入力'!$K$22,"#,##0.00"))) | G21: =IF('01_入力'!$M$22="","",'01_入力'!$L$22)
B22: =IF('01_入力'!$M$23="","",2) | C22: =IF('01_入力'!$M$23="","",IF('01_入力'!$H$23="","（品名未確定）",'01_入力'!$H$23)) | D22: =IF(OR('01_入力'!$M$23="",NOT(ISNUMBER('01_入力'!$D$23))),"",IF('01_入力'!$D$23=INT('01_入力'!$D$23),TEXT('01_入力'!$D$23,"#,##0"),TEXT('01_入力'!$D$23,"#,##0.###"))) | E22: =IF('01_入力'!$M$23="","",'01_入力'!$I$23&"") | F22: =IF(OR(LEFT('01_入力'!$M$23,2)<>"OK",NOT(ISNUMBER('01_入力'!$K$23))),"",IF('01_入力'!$K$23=INT('01_入力'!$K$23),TEXT('01_入力'!$K$23,"#,##0"),TEXT('01_入力'!$K$23,"#,##0.00"))) | G22: =IF('01_入力'!$M$23="","",'01_入力'!$L$23)
B23: =IF('01_入力'!$M$24="","",3) | C23: =IF('01_入力'!$M$24="","",IF('01_入力'!$H$24="","（品名未確定）",'01_入力'!$H$24)) | D23: =IF(OR('01_入力'!$M$24="",NOT(ISNUMBER('01_入力'!$D$24))),"",IF('01_入力'!$D$24=INT('01_入力'!$D$24),TEXT('01_入力'!$D$24,"#,##0"),TEXT('01_入力'!$D$24,"#,##0.###"))) | E23: =IF('01_入力'!$M$24="","",'01_入力'!$I$24&"") | F23: =IF(OR(LEFT('01_入力'!$M$24,2)<>"OK",NOT(ISNUMBER('01_入力'!$K$24))),"",IF('01_入力'!$K$24=INT('01_入力'!$K$24),TEXT('01_入力'!$K$24,"#,##0"),TEXT('01_入力'!$K$24,"#,##0.00"))) | G23: =IF('01_入力'!$M$24="","",'01_入力'!$L$24)
B24: =IF('01_入力'!$M$25="","",4) | C24: =IF('01_入力'!$M$25="","",IF('01_入力'!$H$25="","（品名未確定）",'01_入力'!$H$25)) | D24: =IF(OR('01_入力'!$M$25="",NOT(ISNUMBER('01_入力'!$D$25))),"",IF('01_入力'!$D$25=INT('01_入力'!$D$25),TEXT('01_入力'!$D$25,"#,##0"),TEXT('01_入力'!$D$25,"#,##0.###"))) | E24: =IF('01_入力'!$M$25="","",'01_入力'!$I$25&"") | F24: =IF(OR(LEFT('01_入力'!$M$25,2)<>"OK",NOT(ISNUMBER('01_入力'!$K$25))),"",IF('01_入力'!$K$25=INT('01_入力'!$K$25),TEXT('01_入力'!$K$25,"#,##0"),TEXT('01_入力'!$K$25,"#,##0.00"))) | G24: =IF('01_入力'!$M$25="","",'01_入力'!$L$25)
B25: =IF('01_入力'!$M$26="","",5) | C25: =IF('01_入力'!$M$26="","",IF('01_入力'!$H$26="","（品名未確定）",'01_入力'!$H$26)) | D25: =IF(OR('01_入力'!$M$26="",NOT(ISNUMBER('01_入力'!$D$26))),"",IF('01_入力'!$D$26=INT('01_入力'!$D$26),TEXT('01_入力'!$D$26,"#,##0"),TEXT('01_入力'!$D$26,"#,##0.###"))) | E25: =IF('01_入力'!$M$26="","",'01_入力'!$I$26&"") | F25: =IF(OR(LEFT('01_入力'!$M$26,2)<>"OK",NOT(ISNUMBER('01_入力'!$K$26))),"",IF('01_入力'!$K$26=INT('01_入力'!$K$26),TEXT('01_入力'!$K$26,"#,##0"),TEXT('01_入力'!$K$26,"#,##0.00"))) | G25: =IF('01_入力'!$M$26="","",'01_入力'!$L$26)
B26: =IF('01_入力'!$M$27="","",6) | C26: =IF('01_入力'!$M$27="","",IF('01_入力'!$H$27="","（品名未確定）",'01_入力'!$H$27)) | D26: =IF(OR('01_入力'!$M$27="",NOT(ISNUMBER('01_入力'!$D$27))),"",IF('01_入力'!$D$27=INT('01_入力'!$D$27),TEXT('01_入力'!$D$27,"#,##0"),TEXT('01_入力'!$D$27,"#,##0.###"))) | E26: =IF('01_入力'!$M$27="","",'01_入力'!$I$27&"") | F26: =IF(OR(LEFT('01_入力'!$M$27,2)<>"OK",NOT(ISNUMBER('01_入力'!$K$27))),"",IF('01_入力'!$K$27=INT('01_入力'!$K$27),TEXT('01_入力'!$K$27,"#,##0"),TEXT('01_入力'!$K$27,"#,##0.00"))) | G26: =IF('01_入力'!$M$27="","",'01_入力'!$L$27)
B27: =IF('01_入力'!$M$28="","",7) | C27: =IF('01_入力'!$M$28="","",IF('01_入力'!$H$28="","（品名未確定）",'01_入力'!$H$28)) | D27: =IF(OR('01_入力'!$M$28="",NOT(ISNUMBER('01_入力'!$D$28))),"",IF('01_入力'!$D$28=INT('01_入力'!$D$28),TEXT('01_入力'!$D$28,"#,##0"),TEXT('01_入力'!$D$28,"#,##0.###"))) | E27: =IF('01_入力'!$M$28="","",'01_入力'!$I$28&"") | F27: =IF(OR(LEFT('01_入力'!$M$28,2)<>"OK",NOT(ISNUMBER('01_入力'!$K$28))),"",IF('01_入力'!$K$28=INT('01_入力'!$K$28),TEXT('01_入力'!$K$28,"#,##0"),TEXT('01_入力'!$K$28,"#,##0.00"))) | G27: =IF('01_入力'!$M$28="","",'01_入力'!$L$28)
B28: =IF('01_入力'!$M$29="","",8) | C28: =IF('01_入力'!$M$29="","",IF('01_入力'!$H$29="","（品名未確定）",'01_入力'!$H$29)) | D28: =IF(OR('01_入力'!$M$29="",NOT(ISNUMBER('01_入力'!$D$29))),"",IF('01_入力'!$D$29=INT('01_入力'!$D$29),TEXT('01_入力'!$D$29,"#,##0"),TEXT('01_入力'!$D$29,"#,##0.###"))) | E28: =IF('01_入力'!$M$29="","",'01_入力'!$I$29&"") | F28: =IF(OR(LEFT('01_入力'!$M$29,2)<>"OK",NOT(ISNUMBER('01_入力'!$K$29))),"",IF('01_入力'!$K$29=INT('01_入力'!$K$29),TEXT('01_入力'!$K$29,"#,##0"),TEXT('01_入力'!$K$29,"#,##0.00"))) | G28: =IF('01_入力'!$M$29="","",'01_入力'!$L$29)
B29: =IF('01_入力'!$M$30="","",9) | C29: =IF('01_入力'!$M$30="","",IF('01_入力'!$H$30="","（品名未確定）",'01_入力'!$H$30)) | D29: =IF(OR('01_入力'!$M$30="",NOT(ISNUMBER('01_入力'!$D$30))),"",IF('01_入力'!$D$30=INT('01_入力'!$D$30),TEXT('01_入力'!$D$30,"#,##0"),TEXT('01_入力'!$D$30,"#,##0.###"))) | E29: =IF('01_入力'!$M$30="","",'01_入力'!$I$30&"") | F29: =IF(OR(LEFT('01_入力'!$M$30,2)<>"OK",NOT(ISNUMBER('01_入力'!$K$30))),"",IF('01_入力'!$K$30=INT('01_入力'!$K$30),TEXT('01_入力'!$K$30,"#,##0"),TEXT('01_入力'!$K$30,"#,##0.00"))) | G29: =IF('01_入力'!$M$30="","",'01_入力'!$L$30)
B30: =IF('01_入力'!$M$31="","",10) | C30: =IF('01_入力'!$M$31="","",IF('01_入力'!$H$31="","（品名未確定）",'01_入力'!$H$31)) | D30: =IF(OR('01_入力'!$M$31="",NOT(ISNUMBER('01_入力'!$D$31))),"",IF('01_入力'!$D$31=INT('01_入力'!$D$31),TEXT('01_入力'!$D$31,"#,##0"),TEXT('01_入力'!$D$31,"#,##0.###"))) | E30: =IF('01_入力'!$M$31="","",'01_入力'!$I$31&"") | F30: =IF(OR(LEFT('01_入力'!$M$31,2)<>"OK",NOT(ISNUMBER('01_入力'!$K$31))),"",IF('01_入力'!$K$31=INT('01_入力'!$K$31),TEXT('01_入力'!$K$31,"#,##0"),TEXT('01_入力'!$K$31,"#,##0.00"))) | G30: =IF('01_入力'!$M$31="","",'01_入力'!$L$31)
B31: =IF('01_入力'!$M$32="","",11) | C31: =IF('01_入力'!$M$32="","",IF('01_入力'!$H$32="","（品名未確定）",'01_入力'!$H$32)) | D31: =IF(OR('01_入力'!$M$32="",NOT(ISNUMBER('01_入力'!$D$32))),"",IF('01_入力'!$D$32=INT('01_入力'!$D$32),TEXT('01_入力'!$D$32,"#,##0"),TEXT('01_入力'!$D$32,"#,##0.###"))) | E31: =IF('01_入力'!$M$32="","",'01_入力'!$I$32&"") | F31: =IF(OR(LEFT('01_入力'!$M$32,2)<>"OK",NOT(ISNUMBER('01_入力'!$K$32))),"",IF('01_入力'!$K$32=INT('01_入力'!$K$32),TEXT('01_入力'!$K$32,"#,##0"),TEXT('01_入力'!$K$32,"#,##0.00"))) | G31: =IF('01_入力'!$M$32="","",'01_入力'!$L$32)
B32: =IF('01_入力'!$M$33="","",12) | C32: =IF('01_入力'!$M$33="","",IF('01_入力'!$H$33="","（品名未確定）",'01_入力'!$H$33)) | D32: =IF(OR('01_入力'!$M$33="",NOT(ISNUMBER('01_入力'!$D$33))),"",IF('01_入力'!$D$33=INT('01_入力'!$D$33),TEXT('01_入力'!$D$33,"#,##0"),TEXT('01_入力'!$D$33,"#,##0.###"))) | E32: =IF('01_入力'!$M$33="","",'01_入力'!$I$33&"") | F32: =IF(OR(LEFT('01_入力'!$M$33,2)<>"OK",NOT(ISNUMBER('01_入力'!$K$33))),"",IF('01_入力'!$K$33=INT('01_入力'!$K$33),TEXT('01_入力'!$K$33,"#,##0"),TEXT('01_入力'!$K$33,"#,##0.00"))) | G32: =IF('01_入力'!$M$33="","",'01_入力'!$L$33)
B33: =IF('01_入力'!$M$34="","",13) | C33: =IF('01_入力'!$M$34="","",IF('01_入力'!$H$34="","（品名未確定）",'01_入力'!$H$34)) | D33: =IF(OR('01_入力'!$M$34="",NOT(ISNUMBER('01_入力'!$D$34))),"",IF('01_入力'!$D$34=INT('01_入力'!$D$34),TEXT('01_入力'!$D$34,"#,##0"),TEXT('01_入力'!$D$34,"#,##0.###"))) | E33: =IF('01_入力'!$M$34="","",'01_入力'!$I$34&"") | F33: =IF(OR(LEFT('01_入力'!$M$34,2)<>"OK",NOT(ISNUMBER('01_入力'!$K$34))),"",IF('01_入力'!$K$34=INT('01_入力'!$K$34),TEXT('01_入力'!$K$34,"#,##0"),TEXT('01_入力'!$K$34,"#,##0.00"))) | G33: =IF('01_入力'!$M$34="","",'01_入力'!$L$34)
B34: =IF('01_入力'!$M$35="","",14) | C34: =IF('01_入力'!$M$35="","",IF('01_入力'!$H$35="","（品名未確定）",'01_入力'!$H$35)) | D34: =IF(OR('01_入力'!$M$35="",NOT(ISNUMBER('01_入力'!$D$35))),"",IF('01_入力'!$D$35=INT('01_入力'!$D$35),TEXT('01_入力'!$D$35,"#,##0"),TEXT('01_入力'!$D$35,"#,##0.###"))) | E34: =IF('01_入力'!$M$35="","",'01_入力'!$I$35&"") | F34: =IF(OR(LEFT('01_入力'!$M$35,2)<>"OK",NOT(ISNUMBER('01_入力'!$K$35))),"",IF('01_入力'!$K$35=INT('01_入力'!$K$35),TEXT('01_入力'!$K$35,"#,##0"),TEXT('01_入力'!$K$35,"#,##0.00"))) | G34: =IF('01_入力'!$M$35="","",'01_入力'!$L$35)
B35: =IF('01_入力'!$M$36="","",15) | C35: =IF('01_入力'!$M$36="","",IF('01_入力'!$H$36="","（品名未確定）",'01_入力'!$H$36)) | D35: =IF(OR('01_入力'!$M$36="",NOT(ISNUMBER('01_入力'!$D$36))),"",IF('01_入力'!$D$36=INT('01_入力'!$D$36),TEXT('01_入力'!$D$36,"#,##0"),TEXT('01_入力'!$D$36,"#,##0.###"))) | E35: =IF('01_入力'!$M$36="","",'01_入力'!$I$36&"") | F35: =IF(OR(LEFT('01_入力'!$M$36,2)<>"OK",NOT(ISNUMBER('01_入力'!$K$36))),"",IF('01_入力'!$K$36=INT('01_入力'!$K$36),TEXT('01_入力'!$K$36,"#,##0"),TEXT('01_入力'!$K$36,"#,##0.00"))) | G35: =IF('01_入力'!$M$36="","",'01_入力'!$L$36)
E36: 小計 | G36: =Q_Sub -> 要確認
E37: ="消費税（"&TEXT(TaxRate,"0%")&"）" -> 消費税（10%） | G37: =Q_Tax -> 要確認
E38: 合計（税込） | G38: =Q_Total -> 要確認
B40: 備考
B41: =_xlfn.TEXTJOIN(CHAR(10),TRUE,Q_Note1,Q_Note2,Q_Note3)
B44: ="金額は税抜単価×数量（円未満"&RoundLine&"）の合計に、消費税を税率"&TEXT(TaxRate,"0%")&"で一括計算しています（円未満"&RoundTax&"）。" -> 金額は税抜単価×数量（円未満切り捨て）の合計に、消費税を税率10%で一括計算しています（円未満切り捨て）。

Sheet 03_顧客マスター
A1: 顧客マスター（見積の宛先） | L1: ← 01_入力へ
A2: 1行＝1宛先。同じ会社でも拠点・部署ごとに別IDにできます。選択表示は 01_入力 の候補になります。
A3: 凡例 | B3: 入力 | C3: 自動計算 | D3: 注意・要確認 | H3: 次の顧客ID候補 | I3: ="C"&TEXT(MAX(0,MAX(tblQCustomers[ID番号]))+1,"000") -> C001
A5: 顧客ID | B5: 会社名 | C5: 郵便番号 | D5: 住所1 | E5: 住所2 | F5: 部署（既定） | G5: 担当者名（既定） | H5: 敬称 | I5: 電話 | J5: 補足 | K5: 選択表示 | L5: 入力チェック | M5: ID番号
K6: =IF(tblQCustomers[[#This Row],[顧客ID]]="","",tblQCustomers[[#This Row],[顧客ID]]&"｜"&tblQCustomers[[#This Row],[会社名]]&IF(tblQCustomers[[#This Row],[部署（既定）]]<>"","（"&tblQCustomers[[#This Row],[部署（既定）]]&"）","")) | L6: =IF(AND(tblQCustomers[[#This Row],[顧客ID]]="",tblQCustomers[[#This Row],[会社名]]=""),"",_xlfn.TEXTJOIN("／",TRUE,IF(tblQCustomers[[#This Row],[顧客ID]]="","顧客IDが空欄",""),IF(AND(tblQCustomers[[#This Row],[顧客ID]]<>"",COUNTIF(tblQCustomers[顧客ID],tblQCustomers[[#This Row],[顧客ID]])>1),"顧客IDが重複",""),IF(ISNUMBER(FIND("｜",tblQCustomers[[#This Row],[顧客ID]])),"IDに「｜」は使えない",""),IF(tblQCustomers[[#This Row],[会社名]]="","会社名が空欄",""),IF(AND(tblQCustomers[[#This Row],[敬称]]<>"",tblQCustomers[[#This Row],[敬称]]<>"様",tblQCustomers[[#This Row],[敬称]]<>"御中"),"敬称は「様」か「御中」",""))) | M6: =IFERROR(VALUE(MID(tblQCustomers[[#This Row],[顧客ID]],2,20)),"")
K7: =IF(tblQCustomers[[#This Row],[顧客ID]]="","",tblQCustomers[[#This Row],[顧客ID]]&"｜"&tblQCustomers[[#This Row],[会社名]]&IF(tblQCustomers[[#This Row],[部署（既定）]]<>"","（"&tblQCustomers[[#This Row],[部署（既定）]]&"）","")) | L7: =IF(AND(tblQCustomers[[#This Row],[顧客ID]]="",tblQCustomers[[#This Row],[会社名]]=""),"",_xlfn.TEXTJOIN("／",TRUE,IF(tblQCustomers[[#This Row],[顧客ID]]="","顧客IDが空欄",""),IF(AND(tblQCustomers[[#This Row],[顧客ID]]<>"",COUNTIF(tblQCustomers[顧客ID],tblQCustomers[[#This Row],[顧客ID]])>1),"顧客IDが重複",""),IF(ISNUMBER(FIND("｜",tblQCustomers[[#This Row],[顧客ID]])),"IDに「｜」は使えない",""),IF(tblQCustomers[[#This Row],[会社名]]="","会社名が空欄",""),IF(AND(tblQCustomers[[#This Row],[敬称]]<>"",tblQCustomers[[#This Row],[敬称]]<>"様",tblQCustomers[[#This Row],[敬称]]<>"御中"),"敬称は「様」か「御中」",""))) | M7: =IFERROR(VALUE(MID(tblQCustomers[[#This Row],[顧客ID]],2,20)),"")
K8: =IF(tblQCustomers[[#This Row],[顧客ID]]="","",tblQCustomers[[#This Row],[顧客ID]]&"｜"&tblQCustomers[[#This Row],[会社名]]&IF(tblQCustomers[[#This Row],[部署（既定）]]<>"","（"&tblQCustomers[[#This Row],[部署（既定）]]&"）","")) | L8: =IF(AND(tblQCustomers[[#This Row],[顧客ID]]="",tblQCustomers[[#This Row],[会社名]]=""),"",_xlfn.TEXTJOIN("／",TRUE,IF(tblQCustomers[[#This Row],[顧客ID]]="","顧客IDが空欄",""),IF(AND(tblQCustomers[[#This Row],[顧客ID]]<>"",COUNTIF(tblQCustomers[顧客ID],tblQCustomers[[#This Row],[顧客ID]])>1),"顧客IDが重複",""),IF(ISNUMBER(FIND("｜",tblQCustomers[[#This Row],[顧客ID]])),"IDに「｜」は使えない",""),IF(tblQCustomers[[#This Row],[会社名]]="","会社名が空欄",""),IF(AND(tblQCustomers[[#This Row],[敬称]]<>"",tblQCustomers[[#This Row],[敬称]]<>"様",tblQCustomers[[#This Row],[敬称]]<>"御中"),"敬称は「様」か「御中」",""))) | M8: =IFERROR(VALUE(MID(tblQCustomers[[#This Row],[顧客ID]],2,20)),"")
K9: =IF(tblQCustomers[[#This Row],[顧客ID]]="","",tblQCustomers[[#This Row],[顧客ID]]&"｜"&tblQCustomers[[#This Row],[会社名]]&IF(tblQCustomers[[#This Row],[部署（既定）]]<>"","（"&tblQCustomers[[#This Row],[部署（既定）]]&"）","")) | L9: =IF(AND(tblQCustomers[[#This Row],[顧客ID]]="",tblQCustomers[[#This Row],[会社名]]=""),"",_xlfn.TEXTJOIN("／",TRUE,IF(tblQCustomers[[#This Row],[顧客ID]]="","顧客IDが空欄",""),IF(AND(tblQCustomers[[#This Row],[顧客ID]]<>"",COUNTIF(tblQCustomers[顧客ID],tblQCustomers[[#This Row],[顧客ID]])>1),"顧客IDが重複",""),IF(ISNUMBER(FIND("｜",tblQCustomers[[#This Row],[顧客ID]])),"IDに「｜」は使えない",""),IF(tblQCustomers[[#This Row],[会社名]]="","会社名が空欄",""),IF(AND(tblQCustomers[[#This Row],[敬称]]<>"",tblQCustomers[[#This Row],[敬称]]<>"様",tblQCustomers[[#This Row],[敬称]]<>"御中"),"敬称は「様」か「御中」",""))) | M9: =IFERROR(VALUE(MID(tblQCustomers[[#This Row],[顧客ID]],2,20)),"")
K10: =IF(tblQCustomers[[#This Row],[顧客ID]]="","",tblQCustomers[[#This Row],[顧客ID]]&"｜"&tblQCustomers[[#This Row],[会社名]]&IF(tblQCustomers[[#This Row],[部署（既定）]]<>"","（"&tblQCustomers[[#This Row],[部署（既定）]]&"）","")) | L10: =IF(AND(tblQCustomers[[#This Row],[顧客ID]]="",tblQCustomers[[#This Row],[会社名]]=""),"",_xlfn.TEXTJOIN("／",TRUE,IF(tblQCustomers[[#This Row],[顧客ID]]="","顧客IDが空欄",""),IF(AND(tblQCustomers[[#This Row],[顧客ID]]<>"",COUNTIF(tblQCustomers[顧客ID],tblQCustomers[[#This Row],[顧客ID]])>1),"顧客IDが重複",""),IF(ISNUMBER(FIND("｜",tblQCustomers[[#This Row],[顧客ID]])),"IDに「｜」は使えない",""),IF(tblQCustomers[[#This Row],[会社名]]="","会社名が空欄",""),IF(AND(tblQCustomers[[#This Row],[敬称]]<>"",tblQCustomers[[#This Row],[敬称]]<>"様",tblQCustomers[[#This Row],[敬称]]<>"御中"),"敬称は「様」か「御中」",""))) | M10: =IFERROR(VALUE(MID(tblQCustomers[[#This Row],[顧客ID]],2,20)),"")
K11: =IF(tblQCustomers[[#This Row],[顧客ID]]="","",tblQCustomers[[#This Row],[顧客ID]]&"｜"&tblQCustomers[[#This Row],[会社名]]&IF(tblQCustomers[[#This Row],[部署（既定）]]<>"","（"&tblQCustomers[[#This Row],[部署（既定）]]&"）","")) | L11: =IF(AND(tblQCustomers[[#This Row],[顧客ID]]="",tblQCustomers[[#This Row],[会社名]]=""),"",_xlfn.TEXTJOIN("／",TRUE,IF(tblQCustomers[[#This Row],[顧客ID]]="","顧客IDが空欄",""),IF(AND(tblQCustomers[[#This Row],[顧客ID]]<>"",COUNTIF(tblQCustomers[顧客ID],tblQCustomers[[#This Row],[顧客ID]])>1),"顧客IDが重複",""),IF(ISNUMBER(FIND("｜",tblQCustomers[[#This Row],[顧客ID]])),"IDに「｜」は使えない",""),IF(tblQCustomers[[#This Row],[会社名]]="","会社名が空欄",""),IF(AND(tblQCustomers[[#This Row],[敬称]]<>"",tblQCustomers[[#This Row],[敬称]]<>"様",tblQCustomers[[#This Row],[敬称]]<>"御中"),"敬称は「様」か「御中」",""))) | M11: =IFERROR(VALUE(MID(tblQCustomers[[#This Row],[顧客ID]],2,20)),"")
K12: =IF(tblQCustomers[[#This Row],[顧客ID]]="","",tblQCustomers[[#This Row],[顧客ID]]&"｜"&tblQCustomers[[#This Row],[会社名]]&IF(tblQCustomers[[#This Row],[部署（既定）]]<>"","（"&tblQCustomers[[#This Row],[部署（既定）]]&"）","")) | L12: =IF(AND(tblQCustomers[[#This Row],[顧客ID]]="",tblQCustomers[[#This Row],[会社名]]=""),"",_xlfn.TEXTJOIN("／",TRUE,IF(tblQCustomers[[#This Row],[顧客ID]]="","顧客IDが空欄",""),IF(AND(tblQCustomers[[#This Row],[顧客ID]]<>"",COUNTIF(tblQCustomers[顧客ID],tblQCustomers[[#This Row],[顧客ID]])>1),"顧客IDが重複",""),IF(ISNUMBER(FIND("｜",tblQCustomers[[#This Row],[顧客ID]])),"IDに「｜」は使えない",""),IF(tblQCustomers[[#This Row],[会社名]]="","会社名が空欄",""),IF(AND(tblQCustomers[[#This Row],[敬称]]<>"",tblQCustomers[[#This Row],[敬称]]<>"様",tblQCustomers[[#This Row],[敬称]]<>"御中"),"敬称は「様」か「御中」",""))) | M12: =IFERROR(VALUE(MID(tblQCustomers[[#This Row],[顧客ID]],2,20)),"")
K13: =IF(tblQCustomers[[#This Row],[顧客ID]]="","",tblQCustomers[[#This Row],[顧客ID]]&"｜"&tblQCustomers[[#This Row],[会社名]]&IF(tblQCustomers[[#This Row],[部署（既定）]]<>"","（"&tblQCustomers[[#This Row],[部署（既定）]]&"）","")) | L13: =IF(AND(tblQCustomers[[#This Row],[顧客ID]]="",tblQCustomers[[#This Row],[会社名]]=""),"",_xlfn.TEXTJOIN("／",TRUE,IF(tblQCustomers[[#This Row],[顧客ID]]="","顧客IDが空欄",""),IF(AND(tblQCustomers[[#This Row],[顧客ID]]<>"",COUNTIF(tblQCustomers[顧客ID],tblQCustomers[[#This Row],[顧客ID]])>1),"顧客IDが重複",""),IF(ISNUMBER(FIND("｜",tblQCustomers[[#This Row],[顧客ID]])),"IDに「｜」は使えない",""),IF(tblQCustomers[[#This Row],[会社名]]="","会社名が空欄",""),IF(AND(tblQCustomers[[#This Row],[敬称]]<>"",tblQCustomers[[#This Row],[敬称]]<>"様",tblQCustomers[[#This Row],[敬称]]<>"御中"),"敬称は「様」か「御中」",""))) | M13: =IFERROR(VALUE(MID(tblQCustomers[[#This Row],[顧客ID]],2,20)),"")
K14: =IF(tblQCustomers[[#This Row],[顧客ID]]="","",tblQCustomers[[#This Row],[顧客ID]]&"｜"&tblQCustomers[[#This Row],[会社名]]&IF(tblQCustomers[[#This Row],[部署（既定）]]<>"","（"&tblQCustomers[[#This Row],[部署（既定）]]&"）","")) | L14: =IF(AND(tblQCustomers[[#This Row],[顧客ID]]="",tblQCustomers[[#This Row],[会社名]]=""),"",_xlfn.TEXTJOIN("／",TRUE,IF(tblQCustomers[[#This Row],[顧客ID]]="","顧客IDが空欄",""),IF(AND(tblQCustomers[[#This Row],[顧客ID]]<>"",COUNTIF(tblQCustomers[顧客ID],tblQCustomers[[#This Row],[顧客ID]])>1),"顧客IDが重複",""),IF(ISNUMBER(FIND("｜",tblQCustomers[[#This Row],[顧客ID]])),"IDに「｜」は使えない",""),IF(tblQCustomers[[#This Row],[会社名]]="","会社名が空欄",""),IF(AND(tblQCustomers[[#This Row],[敬称]]<>"",tblQCustomers[[#This Row],[敬称]]<>"様",tblQCustomers[[#This Row],[敬称]]<>"御中"),"敬称は「様」か「御中」",""))) | M14: =IFERROR(VALUE(MID(tblQCustomers[[#This Row],[顧客ID]],2,20)),"")
K15: =IF(tblQCustomers[[#This Row],[顧客ID]]="","",tblQCustomers[[#This Row],[顧客ID]]&"｜"&tblQCustomers[[#This Row],[会社名]]&IF(tblQCustomers[[#This Row],[部署（既定）]]<>"","（"&tblQCustomers[[#This Row],[部署（既定）]]&"）","")) | L15: =IF(AND(tblQCustomers[[#This Row],[顧客ID]]="",tblQCustomers[[#This Row],[会社名]]=""),"",_xlfn.TEXTJOIN("／",TRUE,IF(tblQCustomers[[#This Row],[顧客ID]]="","顧客IDが空欄",""),IF(AND(tblQCustomers[[#This Row],[顧客ID]]<>"",COUNTIF(tblQCustomers[顧客ID],tblQCustomers[[#This Row],[顧客ID]])>1),"顧客IDが重複",""),IF(ISNUMBER(FIND("｜",tblQCustomers[[#This Row],[顧客ID]])),"IDに「｜」は使えない",""),IF(tblQCustomers[[#This Row],[会社名]]="","会社名が空欄",""),IF(AND(tblQCustomers[[#This Row],[敬称]]<>"",tblQCustomers[[#This Row],[敬称]]<>"様",tblQCustomers[[#This Row],[敬称]]<>"御中"),"敬称は「様」か「御中」",""))) | M15: =IFERROR(VALUE(MID(tblQCustomers[[#This Row],[顧客ID]],2,20)),"")
K16: =IF(tblQCustomers[[#This Row],[顧客ID]]="","",tblQCustomers[[#This Row],[顧客ID]]&"｜"&tblQCustomers[[#This Row],[会社名]]&IF(tblQCustomers[[#This Row],[部署（既定）]]<>"","（"&tblQCustomers[[#This Row],[部署（既定）]]&"）","")) | L16: =IF(AND(tblQCustomers[[#This Row],[顧客ID]]="",tblQCustomers[[#This Row],[会社名]]=""),"",_xlfn.TEXTJOIN("／",TRUE,IF(tblQCustomers[[#This Row],[顧客ID]]="","顧客IDが空欄",""),IF(AND(tblQCustomers[[#This Row],[顧客ID]]<>"",COUNTIF(tblQCustomers[顧客ID],tblQCustomers[[#This Row],[顧客ID]])>1),"顧客IDが重複",""),IF(ISNUMBER(FIND("｜",tblQCustomers[[#This Row],[顧客ID]])),"IDに「｜」は使えない",""),IF(tblQCustomers[[#This Row],[会社名]]="","会社名が空欄",""),IF(AND(tblQCustomers[[#This Row],[敬称]]<>"",tblQCustomers[[#This Row],[敬称]]<>"様",tblQCustomers[[#This Row],[敬称]]<>"御中"),"敬称は「様」か「御中」",""))) | M16: =IFERROR(VALUE(MID(tblQCustomers[[#This Row],[顧客ID]],2,20)),"")
K17: =IF(tblQCustomers[[#This Row],[顧客ID]]="","",tblQCustomers[[#This Row],[顧客ID]]&"｜"&tblQCustomers[[#This Row],[会社名]]&IF(tblQCustomers[[#This Row],[部署（既定）]]<>"","（"&tblQCustomers[[#This Row],[部署（既定）]]&"）","")) | L17: =IF(AND(tblQCustomers[[#This Row],[顧客ID]]="",tblQCustomers[[#This Row],[会社名]]=""),"",_xlfn.TEXTJOIN("／",TRUE,IF(tblQCustomers[[#This Row],[顧客ID]]="","顧客IDが空欄",""),IF(AND(tblQCustomers[[#This Row],[顧客ID]]<>"",COUNTIF(tblQCustomers[顧客ID],tblQCustomers[[#This Row],[顧客ID]])>1),"顧客IDが重複",""),IF(ISNUMBER(FIND("｜",tblQCustomers[[#This Row],[顧客ID]])),"IDに「｜」は使えない",""),IF(tblQCustomers[[#This Row],[会社名]]="","会社名が空欄",""),IF(AND(tblQCustomers[[#This Row],[敬称]]<>"",tblQCustomers[[#This Row],[敬称]]<>"様",tblQCustomers[[#This Row],[敬称]]<>"御中"),"敬称は「様」か「御中」",""))) | M17: =IFERROR(VALUE(MID(tblQCustomers[[#This Row],[顧客ID]],2,20)),"")
... K34: =IF(tblQCustomers[[#This Row],[顧客ID]]="","",tblQCustomers[[#This Row],[顧客ID]]&"｜"&tblQCustomers[[#This Row],[会社名]]&IF(tblQCustomers[[#This Row],[部署（既定）]]<>"","（"&tblQCustomers[[#This Row],[部署（既定）]]&"）","")) | L34: =IF(AND(tblQCustomers[[#This Row],[顧客ID]]="",tblQCustomers[[#This Row],[会社名]]=""),"",_xlfn.TEXTJOIN("／",TRUE,IF(tblQCustomers[[#This Row],[顧客ID]]="","顧客IDが空欄",""),IF(AND(tblQCustomers[[#This Row],[顧客ID]]<>"",COUNTIF(tblQCustomers[顧客ID],tblQCustomers[[#This Row],[顧客ID]])>1),"顧客IDが重複",""),IF(ISNUMBER(FIND("｜",tblQCustomers[[#This Row],[顧客ID]])),"IDに「｜」は使えない",""),IF(tblQCustomers[[#This Row],[会社名]]="","会社名が空欄",""),IF(AND(tblQCustomers[[#This Row],[敬称]]<>"",tblQCustomers[[#This Row],[敬称]]<>"様",tblQCustomers[[#This Row],[敬称]]<>"御中"),"敬称は「様」か「御中」",""))) | M34: =IFERROR(VALUE(MID(tblQCustomers[[#This Row],[顧客ID]],2,20)),"")

Sheet 04_商品マスター
A1: 商品マスター（品目・標準単価） | I1: ← 01_入力へ
A2: 1行＝1品目。同じ品名でも仕様・単価が違えば別IDにします。0円の項目は無償扱いを「はい」に。
A3: 凡例 | B3: 入力 | C3: 自動計算 | D3: 注意・要確認 | G3: 次の商品ID候補 | H3: ="I"&TEXT(MAX(0,MAX(tblItems[ID番号]))+1,"000") -> I001
A5: 商品ID | B5: 品名 | C5: 仕様・型式 | D5: 単位 | E5: 標準単価（税抜） | F5: 無償扱い | G5: 補足 | H5: 選択表示 | I5: 入力チェック | J5: ID番号
H6: =IF(tblItems[[#This Row],[商品ID]]="","",tblItems[[#This Row],[商品ID]]&"｜"&tblItems[[#This Row],[品名]]&IF(tblItems[[#This Row],[仕様・型式]]<>"","（"&tblItems[[#This Row],[仕様・型式]]&"）","")&"｜"&IF(ISNUMBER(tblItems[[#This Row],[標準単価（税抜）]]),TEXT(tblItems[[#This Row],[標準単価（税抜）]],"#,##0")&"円","単価未設定")) | I6: =IF(AND(tblItems[[#This Row],[商品ID]]="",tblItems[[#This Row],[品名]]=""),"",_xlfn.TEXTJOIN("／",TRUE,IF(tblItems[[#This Row],[商品ID]]="","商品IDが空欄",""),IF(AND(tblItems[[#This Row],[商品ID]]<>"",COUNTIF(tblItems[商品ID],tblItems[[#This Row],[商品ID]])>1),"商品IDが重複",""),IF(ISNUMBER(FIND("｜",tblItems[[#This Row],[商品ID]])),"IDに「｜」は使えない",""),IF(tblItems[[#This Row],[品名]]="","品名が空欄",""),IF(tblItems[[#This Row],[単位]]="","単位が空欄",""),IF(tblItems[[#This Row],[標準単価（税抜）]]="","標準単価が空欄",IF(NOT(ISNUMBER(tblItems[[#This Row],[標準単価（税抜）]])),"標準単価が数値ではない",IF(tblItems[[#This Row],[標準単価（税抜）]]<0,"標準単価がマイナス",IF(AND(tblItems[[#This Row],[標準単価（税抜）]]=0,tblItems[[#This Row],[無償扱い]]<>"はい"),"0円なら無償扱いを「はい」に","")))),IF(AND(tblItems[[#This Row],[無償扱い]]="はい",N(tblItems[[#This Row],[標準単価（税抜）]])<>0),"無償扱いなのに単価が0円でない",""))) | J6: =IFERROR(VALUE(MID(tblItems[[#This Row],[商品ID]],2,20)),"")
H7: =IF(tblItems[[#This Row],[商品ID]]="","",tblItems[[#This Row],[商品ID]]&"｜"&tblItems[[#This Row],[品名]]&IF(tblItems[[#This Row],[仕様・型式]]<>"","（"&tblItems[[#This Row],[仕様・型式]]&"）","")&"｜"&IF(ISNUMBER(tblItems[[#This Row],[標準単価（税抜）]]),TEXT(tblItems[[#This Row],[標準単価（税抜）]],"#,##0")&"円","単価未設定")) | I7: =IF(AND(tblItems[[#This Row],[商品ID]]="",tblItems[[#This Row],[品名]]=""),"",_xlfn.TEXTJOIN("／",TRUE,IF(tblItems[[#This Row],[商品ID]]="","商品IDが空欄",""),IF(AND(tblItems[[#This Row],[商品ID]]<>"",COUNTIF(tblItems[商品ID],tblItems[[#This Row],[商品ID]])>1),"商品IDが重複",""),IF(ISNUMBER(FIND("｜",tblItems[[#This Row],[商品ID]])),"IDに「｜」は使えない",""),IF(tblItems[[#This Row],[品名]]="","品名が空欄",""),IF(tblItems[[#This Row],[単位]]="","単位が空欄",""),IF(tblItems[[#This Row],[標準単価（税抜）]]="","標準単価が空欄",IF(NOT(ISNUMBER(tblItems[[#This Row],[標準単価（税抜）]])),"標準単価が数値ではない",IF(tblItems[[#This Row],[標準単価（税抜）]]<0,"標準単価がマイナス",IF(AND(tblItems[[#This Row],[標準単価（税抜）]]=0,tblItems[[#This Row],[無償扱い]]<>"はい"),"0円なら無償扱いを「はい」に","")))),IF(AND(tblItems[[#This Row],[無償扱い]]="はい",N(tblItems[[#This Row],[標準単価（税抜）]])<>0),"無償扱いなのに単価が0円でない",""))) | J7: =IFERROR(VALUE(MID(tblItems[[#This Row],[商品ID]],2,20)),"")
H8: =IF(tblItems[[#This Row],[商品ID]]="","",tblItems[[#This Row],[商品ID]]&"｜"&tblItems[[#This Row],[品名]]&IF(tblItems[[#This Row],[仕様・型式]]<>"","（"&tblItems[[#This Row],[仕様・型式]]&"）","")&"｜"&IF(ISNUMBER(tblItems[[#This Row],[標準単価（税抜）]]),TEXT(tblItems[[#This Row],[標準単価（税抜）]],"#,##0")&"円","単価未設定")) | I8: =IF(AND(tblItems[[#This Row],[商品ID]]="",tblItems[[#This Row],[品名]]=""),"",_xlfn.TEXTJOIN("／",TRUE,IF(tblItems[[#This Row],[商品ID]]="","商品IDが空欄",""),IF(AND(tblItems[[#This Row],[商品ID]]<>"",COUNTIF(tblItems[商品ID],tblItems[[#This Row],[商品ID]])>1),"商品IDが重複",""),IF(ISNUMBER(FIND("｜",tblItems[[#This Row],[商品ID]])),"IDに「｜」は使えない",""),IF(tblItems[[#This Row],[品名]]="","品名が空欄",""),IF(tblItems[[#This Row],[単位]]="","単位が空欄",""),IF(tblItems[[#This Row],[標準単価（税抜）]]="","標準単価が空欄",IF(NOT(ISNUMBER(tblItems[[#This Row],[標準単価（税抜）]])),"標準単価が数値ではない",IF(tblItems[[#This Row],[標準単価（税抜）]]<0,"標準単価がマイナス",IF(AND(tblItems[[#This Row],[標準単価（税抜）]]=0,tblItems[[#This Row],[無償扱い]]<>"はい"),"0円なら無償扱いを「はい」に","")))),IF(AND(tblItems[[#This Row],[無償扱い]]="はい",N(tblItems[[#This Row],[標準単価（税抜）]])<>0),"無償扱いなのに単価が0円でない",""))) | J8: =IFERROR(VALUE(MID(tblItems[[#This Row],[商品ID]],2,20)),"")
H9: =IF(tblItems[[#This Row],[商品ID]]="","",tblItems[[#This Row],[商品ID]]&"｜"&tblItems[[#This Row],[品名]]&IF(tblItems[[#This Row],[仕様・型式]]<>"","（"&tblItems[[#This Row],[仕様・型式]]&"）","")&"｜"&IF(ISNUMBER(tblItems[[#This Row],[標準単価（税抜）]]),TEXT(tblItems[[#This Row],[標準単価（税抜）]],"#,##0")&"円","単価未設定")) | I9: =IF(AND(tblItems[[#This Row],[商品ID]]="",tblItems[[#This Row],[品名]]=""),"",_xlfn.TEXTJOIN("／",TRUE,IF(tblItems[[#This Row],[商品ID]]="","商品IDが空欄",""),IF(AND(tblItems[[#This Row],[商品ID]]<>"",COUNTIF(tblItems[商品ID],tblItems[[#This Row],[商品ID]])>1),"商品IDが重複",""),IF(ISNUMBER(FIND("｜",tblItems[[#This Row],[商品ID]])),"IDに「｜」は使えない",""),IF(tblItems[[#This Row],[品名]]="","品名が空欄",""),IF(tblItems[[#This Row],[単位]]="","単位が空欄",""),IF(tblItems[[#This Row],[標準単価（税抜）]]="","標準単価が空欄",IF(NOT(ISNUMBER(tblItems[[#This Row],[標準単価（税抜）]])),"標準単価が数値ではない",IF(tblItems[[#This Row],[標準単価（税抜）]]<0,"標準単価がマイナス",IF(AND(tblItems[[#This Row],[標準単価（税抜）]]=0,tblItems[[#This Row],[無償扱い]]<>"はい"),"0円なら無償扱いを「はい」に","")))),IF(AND(tblItems[[#This Row],[無償扱い]]="はい",N(tblItems[[#This Row],[標準単価（税抜）]])<>0),"無償扱いなのに単価が0円でない",""))) | J9: =IFERROR(VALUE(MID(tblItems[[#This Row],[商品ID]],2,20)),"")
H10: =IF(tblItems[[#This Row],[商品ID]]="","",tblItems[[#This Row],[商品ID]]&"｜"&tblItems[[#This Row],[品名]]&IF(tblItems[[#This Row],[仕様・型式]]<>"","（"&tblItems[[#This Row],[仕様・型式]]&"）","")&"｜"&IF(ISNUMBER(tblItems[[#This Row],[標準単価（税抜）]]),TEXT(tblItems[[#This Row],[標準単価（税抜）]],"#,##0")&"円","単価未設定")) | I10: =IF(AND(tblItems[[#This Row],[商品ID]]="",tblItems[[#This Row],[品名]]=""),"",_xlfn.TEXTJOIN("／",TRUE,IF(tblItems[[#This Row],[商品ID]]="","商品IDが空欄",""),IF(AND(tblItems[[#This Row],[商品ID]]<>"",COUNTIF(tblItems[商品ID],tblItems[[#This Row],[商品ID]])>1),"商品IDが重複",""),IF(ISNUMBER(FIND("｜",tblItems[[#This Row],[商品ID]])),"IDに「｜」は使えない",""),IF(tblItems[[#This Row],[品名]]="","品名が空欄",""),IF(tblItems[[#This Row],[単位]]="","単位が空欄",""),IF(tblItems[[#This Row],[標準単価（税抜）]]="","標準単価が空欄",IF(NOT(ISNUMBER(tblItems[[#This Row],[標準単価（税抜）]])),"標準単価が数値ではない",IF(tblItems[[#This Row],[標準単価（税抜）]]<0,"標準単価がマイナス",IF(AND(tblItems[[#This Row],[標準単価（税抜）]]=0,tblItems[[#This Row],[無償扱い]]<>"はい"),"0円なら無償扱いを「はい」に","")))),IF(AND(tblItems[[#This Row],[無償扱い]]="はい",N(tblItems[[#This Row],[標準単価（税抜）]])<>0),"無償扱いなのに単価が0円でない",""))) | J10: =IFERROR(VALUE(MID(tblItems[[#This Row],[商品ID]],2,20)),"")
H11: =IF(tblItems[[#This Row],[商品ID]]="","",tblItems[[#This Row],[商品ID]]&"｜"&tblItems[[#This Row],[品名]]&IF(tblItems[[#This Row],[仕様・型式]]<>"","（"&tblItems[[#This Row],[仕様・型式]]&"）","")&"｜"&IF(ISNUMBER(tblItems[[#This Row],[標準単価（税抜）]]),TEXT(tblItems[[#This Row],[標準単価（税抜）]],"#,##0")&"円","単価未設定")) | I11: =IF(AND(tblItems[[#This Row],[商品ID]]="",tblItems[[#This Row],[品名]]=""),"",_xlfn.TEXTJOIN("／",TRUE,IF(tblItems[[#This Row],[商品ID]]="","商品IDが空欄",""),IF(AND(tblItems[[#This Row],[商品ID]]<>"",COUNTIF(tblItems[商品ID],tblItems[[#This Row],[商品ID]])>1),"商品IDが重複",""),IF(ISNUMBER(FIND("｜",tblItems[[#This Row],[商品ID]])),"IDに「｜」は使えない",""),IF(tblItems[[#This Row],[品名]]="","品名が空欄",""),IF(tblItems[[#This Row],[単位]]="","単位が空欄",""),IF(tblItems[[#This Row],[標準単価（税抜）]]="","標準単価が空欄",IF(NOT(ISNUMBER(tblItems[[#This Row],[標準単価（税抜）]])),"標準単価が数値ではない",IF(tblItems[[#This Row],[標準単価（税抜）]]<0,"標準単価がマイナス",IF(AND(tblItems[[#This Row],[標準単価（税抜）]]=0,tblItems[[#This Row],[無償扱い]]<>"はい"),"0円なら無償扱いを「はい」に","")))),IF(AND(tblItems[[#This Row],[無償扱い]]="はい",N(tblItems[[#This Row],[標準単価（税抜）]])<>0),"無償扱いなのに単価が0円でない",""))) | J11: =IFERROR(VALUE(MID(tblItems[[#This Row],[商品ID]],2,20)),"")
H12: =IF(tblItems[[#This Row],[商品ID]]="","",tblItems[[#This Row],[商品ID]]&"｜"&tblItems[[#This Row],[品名]]&IF(tblItems[[#This Row],[仕様・型式]]<>"","（"&tblItems[[#This Row],[仕様・型式]]&"）","")&"｜"&IF(ISNUMBER(tblItems[[#This Row],[標準単価（税抜）]]),TEXT(tblItems[[#This Row],[標準単価（税抜）]],"#,##0")&"円","単価未設定")) | I12: =IF(AND(tblItems[[#This Row],[商品ID]]="",tblItems[[#This Row],[品名]]=""),"",_xlfn.TEXTJOIN("／",TRUE,IF(tblItems[[#This Row],[商品ID]]="","商品IDが空欄",""),IF(AND(tblItems[[#This Row],[商品ID]]<>"",COUNTIF(tblItems[商品ID],tblItems[[#This Row],[商品ID]])>1),"商品IDが重複",""),IF(ISNUMBER(FIND("｜",tblItems[[#This Row],[商品ID]])),"IDに「｜」は使えない",""),IF(tblItems[[#This Row],[品名]]="","品名が空欄",""),IF(tblItems[[#This Row],[単位]]="","単位が空欄",""),IF(tblItems[[#This Row],[標準単価（税抜）]]="","標準単価が空欄",IF(NOT(ISNUMBER(tblItems[[#This Row],[標準単価（税抜）]])),"標準単価が数値ではない",IF(tblItems[[#This Row],[標準単価（税抜）]]<0,"標準単価がマイナス",IF(AND(tblItems[[#This Row],[標準単価（税抜）]]=0,tblItems[[#This Row],[無償扱い]]<>"はい"),"0円なら無償扱いを「はい」に","")))),IF(AND(tblItems[[#This Row],[無償扱い]]="はい",N(tblItems[[#This Row],[標準単価（税抜）]])<>0),"無償扱いなのに単価が0円でない",""))) | J12: =IFERROR(VALUE(MID(tblItems[[#This Row],[商品ID]],2,20)),"")
H13: =IF(tblItems[[#This Row],[商品ID]]="","",tblItems[[#This Row],[商品ID]]&"｜"&tblItems[[#This Row],[品名]]&IF(tblItems[[#This Row],[仕様・型式]]<>"","（"&tblItems[[#This Row],[仕様・型式]]&"）","")&"｜"&IF(ISNUMBER(tblItems[[#This Row],[標準単価（税抜）]]),TEXT(tblItems[[#This Row],[標準単価（税抜）]],"#,##0")&"円","単価未設定")) | I13: =IF(AND(tblItems[[#This Row],[商品ID]]="",tblItems[[#This Row],[品名]]=""),"",_xlfn.TEXTJOIN("／",TRUE,IF(tblItems[[#This Row],[商品ID]]="","商品IDが空欄",""),IF(AND(tblItems[[#This Row],[商品ID]]<>"",COUNTIF(tblItems[商品ID],tblItems[[#This Row],[商品ID]])>1),"商品IDが重複",""),IF(ISNUMBER(FIND("｜",tblItems[[#This Row],[商品ID]])),"IDに「｜」は使えない",""),IF(tblItems[[#This Row],[品名]]="","品名が空欄",""),IF(tblItems[[#This Row],[単位]]="","単位が空欄",""),IF(tblItems[[#This Row],[標準単価（税抜）]]="","標準単価が空欄",IF(NOT(ISNUMBER(tblItems[[#This Row],[標準単価（税抜）]])),"標準単価が数値ではない",IF(tblItems[[#This Row],[標準単価（税抜）]]<0,"標準単価がマイナス",IF(AND(tblItems[[#This Row],[標準単価（税抜）]]=0,tblItems[[#This Row],[無償扱い]]<>"はい"),"0円なら無償扱いを「はい」に","")))),IF(AND(tblItems[[#This Row],[無償扱い]]="はい",N(tblItems[[#This Row],[標準単価（税抜）]])<>0),"無償扱いなのに単価が0円でない",""))) | J13: =IFERROR(VALUE(MID(tblItems[[#This Row],[商品ID]],2,20)),"")
H14: =IF(tblItems[[#This Row],[商品ID]]="","",tblItems[[#This Row],[商品ID]]&"｜"&tblItems[[#This Row],[品名]]&IF(tblItems[[#This Row],[仕様・型式]]<>"","（"&tblItems[[#This Row],[仕様・型式]]&"）","")&"｜"&IF(ISNUMBER(tblItems[[#This Row],[標準単価（税抜）]]),TEXT(tblItems[[#This Row],[標準単価（税抜）]],"#,##0")&"円","単価未設定")) | I14: =IF(AND(tblItems[[#This Row],[商品ID]]="",tblItems[[#This Row],[品名]]=""),"",_xlfn.TEXTJOIN("／",TRUE,IF(tblItems[[#This Row],[商品ID]]="","商品IDが空欄",""),IF(AND(tblItems[[#This Row],[商品ID]]<>"",COUNTIF(tblItems[商品ID],tblItems[[#This Row],[商品ID]])>1),"商品IDが重複",""),IF(ISNUMBER(FIND("｜",tblItems[[#This Row],[商品ID]])),"IDに「｜」は使えない",""),IF(tblItems[[#This Row],[品名]]="","品名が空欄",""),IF(tblItems[[#This Row],[単位]]="","単位が空欄",""),IF(tblItems[[#This Row],[標準単価（税抜）]]="","標準単価が空欄",IF(NOT(ISNUMBER(tblItems[[#This Row],[標準単価（税抜）]])),"標準単価が数値ではない",IF(tblItems[[#This Row],[標準単価（税抜）]]<0,"標準単価がマイナス",IF(AND(tblItems[[#This Row],[標準単価（税抜）]]=0,tblItems[[#This Row],[無償扱い]]<>"はい"),"0円なら無償扱いを「はい」に","")))),IF(AND(tblItems[[#This Row],[無償扱い]]="はい",N(tblItems[[#This Row],[標準単価（税抜）]])<>0),"無償扱いなのに単価が0円でない",""))) | J14: =IFERROR(VALUE(MID(tblItems[[#This Row],[商品ID]],2,20)),"")
H15: =IF(tblItems[[#This Row],[商品ID]]="","",tblItems[[#This Row],[商品ID]]&"｜"&tblItems[[#This Row],[品名]]&IF(tblItems[[#This Row],[仕様・型式]]<>"","（"&tblItems[[#This Row],[仕様・型式]]&"）","")&"｜"&IF(ISNUMBER(tblItems[[#This Row],[標準単価（税抜）]]),TEXT(tblItems[[#This Row],[標準単価（税抜）]],"#,##0")&"円","単価未設定")) | I15: =IF(AND(tblItems[[#This Row],[商品ID]]="",tblItems[[#This Row],[品名]]=""),"",_xlfn.TEXTJOIN("／",TRUE,IF(tblItems[[#This Row],[商品ID]]="","商品IDが空欄",""),IF(AND(tblItems[[#This Row],[商品ID]]<>"",COUNTIF(tblItems[商品ID],tblItems[[#This Row],[商品ID]])>1),"商品IDが重複",""),IF(ISNUMBER(FIND("｜",tblItems[[#This Row],[商品ID]])),"IDに「｜」は使えない",""),IF(tblItems[[#This Row],[品名]]="","品名が空欄",""),IF(tblItems[[#This Row],[単位]]="","単位が空欄",""),IF(tblItems[[#This Row],[標準単価（税抜）]]="","標準単価が空欄",IF(NOT(ISNUMBER(tblItems[[#This Row],[標準単価（税抜）]])),"標準単価が数値ではない",IF(tblItems[[#This Row],[標準単価（税抜）]]<0,"標準単価がマイナス",IF(AND(tblItems[[#This Row],[標準単価（税抜）]]=0,tblItems[[#This Row],[無償扱い]]<>"はい"),"0円なら無償扱いを「はい」に","")))),IF(AND(tblItems[[#This Row],[無償扱い]]="はい",N(tblItems[[#This Row],[標準単価（税抜）]])<>0),"無償扱いなのに単価が0円でない",""))) | J15: =IFERROR(VALUE(MID(tblItems[[#This Row],[商品ID]],2,20)),"")
H16: =IF(tblItems[[#This Row],[商品ID]]="","",tblItems[[#This Row],[商品ID]]&"｜"&tblItems[[#This Row],[品名]]&IF(tblItems[[#This Row],[仕様・型式]]<>"","（"&tblItems[[#This Row],[仕様・型式]]&"）","")&"｜"&IF(ISNUMBER(tblItems[[#This Row],[標準単価（税抜）]]),TEXT(tblItems[[#This Row],[標準単価（税抜）]],"#,##0")&"円","単価未設定")) | I16: =IF(AND(tblItems[[#This Row],[商品ID]]="",tblItems[[#This Row],[品名]]=""),"",_xlfn.TEXTJOIN("／",TRUE,IF(tblItems[[#This Row],[商品ID]]="","商品IDが空欄",""),IF(AND(tblItems[[#This Row],[商品ID]]<>"",COUNTIF(tblItems[商品ID],tblItems[[#This Row],[商品ID]])>1),"商品IDが重複",""),IF(ISNUMBER(FIND("｜",tblItems[[#This Row],[商品ID]])),"IDに「｜」は使えない",""),IF(tblItems[[#This Row],[品名]]="","品名が空欄",""),IF(tblItems[[#This Row],[単位]]="","単位が空欄",""),IF(tblItems[[#This Row],[標準単価（税抜）]]="","標準単価が空欄",IF(NOT(ISNUMBER(tblItems[[#This Row],[標準単価（税抜）]])),"標準単価が数値ではない",IF(tblItems[[#This Row],[標準単価（税抜）]]<0,"標準単価がマイナス",IF(AND(tblItems[[#This Row],[標準単価（税抜）]]=0,tblItems[[#This Row],[無償扱い]]<>"はい"),"0円なら無償扱いを「はい」に","")))),IF(AND(tblItems[[#This Row],[無償扱い]]="はい",N(tblItems[[#This Row],[標準単価（税抜）]])<>0),"無償扱いなのに単価が0円でない",""))) | J16: =IFERROR(VALUE(MID(tblItems[[#This Row],[商品ID]],2,20)),"")
